BEGIN:VCALENDAR
VERSION:2.0
PRODID:-//ChamberMaster//Event Calendar 2.0//EN
METHOD:PUBLISH
X-PUBLISHED-TTL:P3D
REFRESH-INTERVAL:P3D
CALSCALE:GREGORIAN
BEGIN:VEVENT
DTSTART:20111025T130000Z
DTEND:20111025T143000Z
X-MICROSOFT-CDO-ALLDAYEVENT:FALSE
SUMMARY:"Pink Talk"
DESCRIPTION:Please join us for an educational and FUN presentation on breast health and cancer awareness\; light refreshments will be served. \n\nPlease register to attend by calling the American Cancer Society at 336.834.0844.
X-ALT-DESC;FMTTYPE=text/html:Please join us for an educational and&nbsp\;FUN presentation on breast health and cancer awareness\; light refreshments will be served.&nbsp\;<br />\nPlease&nbsp\;register to attend by calling the American Cancer Society at 336.834.0844.
LOCATION:Annie Penn Hospital\, WomanKind Center
UID:e.111.2044
SEQUENCE:3
DTSTAMP:20260423T083749Z
URL:https://business.reidsvillechamber.org/events/details/pink-talk-10-25-2011-2044
END:VEVENT

END:VCALENDAR
