BEGIN:VCALENDAR
VERSION:2.0
PRODID:-//ChamberMaster//Event Calendar 2.0//EN
METHOD:PUBLISH
X-PUBLISHED-TTL:P3D
REFRESH-INTERVAL:P3D
CALSCALE:GREGORIAN
BEGIN:VEVENT
DTSTART;VALUE=DATE:20110210
DTEND;VALUE=DATE:20110213
TRANSP:TRANSPARENT
X-MICROSOFT-CDO-ALLDAYEVENT:TRUE
SUMMARY:Pottery Wheel Demonstration at Everyday Art Gallery\, Gifts & Studio
DESCRIPTION:Jim Talley of Farm House Pottery will be demonstrating his pottery throwing technique on the potter's wheel during our February Gallery Show and Sale\, February 10-11-12.
X-ALT-DESC;FMTTYPE=text/html:Jim Talley of Farm House Pottery will be demonstrating his pottery throwing technique on the potter's wheel during our February Gallery Show and Sale\, February 10-11-12.
LOCATION:Everyday Art Gallery\; 209 SW Market Street\, Downtown Reidsville
UID:e.111.1593
SEQUENCE:3
DTSTAMP:20260423T213148Z
URL:https://business.reidsvillechamber.org/events/details/pottery-wheel-demonstration-at-everyday-art-gallery-gifts-studio-02-10-2011-1593
END:VEVENT

END:VCALENDAR
