BEGIN:VCALENDAR
VERSION:2.0
PRODID:-//ChamberMaster//Event Calendar 2.0//EN
METHOD:PUBLISH
X-PUBLISHED-TTL:P3D
REFRESH-INTERVAL:P3D
CALSCALE:GREGORIAN
BEGIN:VEVENT
DTSTART:20110303T223000Z
DTEND:20110303T230000Z
X-MICROSOFT-CDO-ALLDAYEVENT:FALSE
SUMMARY:Prayer & Meditation at Everyday Art
DESCRIPTION:Silent Prayer & Meditation
X-ALT-DESC;FMTTYPE=text/html:Silent Prayer &amp\; Meditation
LOCATION:Everyday Art
UID:e.111.1604
SEQUENCE:3
DTSTAMP:20260423T195053Z
URL:https://business.reidsvillechamber.org/events/details/prayer-meditation-at-everyday-art-03-03-2011-1604
END:VEVENT

END:VCALENDAR
