BEGIN:VCALENDAR
VERSION:2.0
PRODID:-//ChamberMaster//Event Calendar 2.0//EN
METHOD:PUBLISH
X-PUBLISHED-TTL:P3D
REFRESH-INTERVAL:P3D
CALSCALE:GREGORIAN
BEGIN:VEVENT
DTSTART:20091102T223000Z
DTEND:20091103T013000Z
X-MICROSOFT-CDO-ALLDAYEVENT:FALSE
SUMMARY:Profitable Agritourism in Rockingham County
DESCRIPTION:Profitable Agritourism in Rockingham County Monday November 2\, 2009 Starting at 5:30 pm Rockingham County Agricultural Building  525 Hwy 65Reidsville\, NC 27320         ************************************************ Topics: Agritourism from a Business Point of View                    Debi Joyce\, Rockingham County Community College                              Small Business Center                Horticulture Farm Experiences                    Kathryn Holmes\, Horticulture  Agent Rockingham                              and Caswell Counties\, NCCE                Details for a Successful Youth Group Visit                                                      Morgan Maness\, Rockingham County 4-H Agent NCCE                Enhancing Agritourism with Partnerships                    Brenda Sutton\, Rockingham County Extension Director NCCE                Livestock Considerations for Agritourism                    Ben Chase\, Livestock Agent Rockingham & Guilford                             Counties NCCE                Experiences with Local Agritourism                    Kristi and Paul Marshall\, Riverbirch Vineyards************************************************************* Registration requested to Cooperative Extension 336-342-8230.
X-ALT-DESC;FMTTYPE=text/html:<div><p class="MsoNormal" style="margin: 0in -81pt 0pt\; text-indent: 63pt\; text-align: left"><span style="font-size: medium"><b style="mso-bidi-font-weight: normal"><span id="1256569902458E" style="display: none">&nbsp\;</span><span id="1256569899655E" style="display: none">&nbsp\;</span><span><font face="Times New Roman">&nbsp\;&nbsp\;&nbsp\;</font></span></b></span></p><div style="text-align: center"><span style="font-size: large"><b>Profitable Agritourism in Rockingham County</b></span></div><div style="text-align: center"><span style="font-size: large"><b>&nbsp\;</b></span></div><div style="text-align: center"><b>Monday November 2\, 2009</b></div><div style="text-align: center"><b>&nbsp\;</b></div><div style="text-align: center"><b>Starting at 5:30 pm</b></div><div style="text-align: center"><b>&nbsp\;</b></div><div style="text-align: center"><b>Rockingham County Agricultural Building</b></div><div style="text-align: center"><span style="font-size: small"><span id="1256569898670S" style="display: none">&nbsp\;</span><span id="1256569903364S" style="display: none">&nbsp\;</span><span style="font-family: Times New Roman"><b>525 Hwy 65</b></span></span></div><div style="text-align: center"><span style="font-size: small"><span style="font-family: Times New Roman"><b>Reidsville\, NC 27320</b></span></span></div><div style="text-align: center"><span style="font-size: small"><span style="font-family: Times New Roman"><b>&nbsp\;</b></span></span></div><div style="text-align: center"><span style="font-size: small"><span style="font-family: Times New Roman">&nbsp\;&nbsp\;&nbsp\;&nbsp\;&nbsp\;&nbsp\;&nbsp\; ************************************************</span></span></div><div style="text-align: left"><span style="font-size: small"><span style="font-family: Times New Roman">&nbsp\;</span></span><span style=""><span style="font-family: Times New Roman"><b>Topics: </b></span></span><span style="font-family: Times New Roman"><b>Agritourism from a Business Point of&nbsp\;View</b></span></div><div style="text-align: left"><span style="font-family: Times New Roman"><b>&nbsp\;&nbsp\;&nbsp\;&nbsp\;&nbsp\;&nbsp\;&nbsp\;&nbsp\;&nbsp\;&nbsp\;&nbsp\;&nbsp\;&nbsp\;&nbsp\;&nbsp\;&nbsp\;&nbsp\;&nbsp\;&nbsp\;&nbsp\;Debi Joyce\, Rockingham County Community College</b></span></div><div style="text-align: left"><span style="font-family: Times New Roman"><b>&nbsp\;&nbsp\;&nbsp\;&nbsp\;&nbsp\;&nbsp\;&nbsp\;&nbsp\;&nbsp\;&nbsp\;&nbsp\;&nbsp\;&nbsp\;&nbsp\;&nbsp\;&nbsp\;&nbsp\;&nbsp\;&nbsp\;&nbsp\;&nbsp\;&nbsp\;&nbsp\;&nbsp\;&nbsp\;&nbsp\;&nbsp\;&nbsp\;&nbsp\;&nbsp\;Small Business Center</b></span></div><div style="text-align: left">&nbsp\;</div><div style="text-align: left"><span style="font-family: Times New Roman"><b>&nbsp\;&nbsp\;&nbsp\;&nbsp\;&nbsp\;&nbsp\;&nbsp\;&nbsp\;&nbsp\;&nbsp\;&nbsp\;&nbsp\;&nbsp\;&nbsp\;&nbsp\;Horticulture Farm Experiences</b></span></div><div style="text-align: left"><span style="font-family: Times New Roman"><b>&nbsp\;&nbsp\;&nbsp\;&nbsp\;&nbsp\;&nbsp\;&nbsp\;&nbsp\;&nbsp\;&nbsp\;&nbsp\;&nbsp\;&nbsp\;&nbsp\;&nbsp\;&nbsp\;&nbsp\;&nbsp\;&nbsp\;&nbsp\;Kathryn Holmes\, Horticulture &nbsp\;Agent Rockingham </b></span></div><div style="text-align: left"><span style="font-family: Times New Roman"><b>&nbsp\;&nbsp\;&nbsp\;&nbsp\;&nbsp\;&nbsp\;&nbsp\;&nbsp\;&nbsp\;&nbsp\;&nbsp\;&nbsp\;&nbsp\;&nbsp\;&nbsp\;&nbsp\;&nbsp\;&nbsp\;&nbsp\;&nbsp\;&nbsp\;&nbsp\;&nbsp\;&nbsp\;&nbsp\;&nbsp\;&nbsp\;&nbsp\;&nbsp\;and Caswell Counties\, NCCE</b></span></div><div style="text-align: left">&nbsp\;</div><div style="text-align: left"><span style="font-family: Times New Roman"><b>&nbsp\;&nbsp\;&nbsp\;&nbsp\;&nbsp\;&nbsp\;&nbsp\;&nbsp\;&nbsp\;&nbsp\;&nbsp\;&nbsp\;&nbsp\;&nbsp\;&nbsp\;Details for a Successful Youth Group Visit&nbsp\;&nbsp\;&nbsp\;&nbsp\;&nbsp\;&nbsp\;&nbsp\;&nbsp\;&nbsp\;&nbsp\;&nbsp\;&nbsp\;&nbsp\;&nbsp\;&nbsp\;&nbsp\;&nbsp\;&nbsp\;&nbsp\;&nbsp\;&nbsp\;&nbsp\;&nbsp\;&nbsp\;&nbsp\;&nbsp\;&nbsp\;&nbsp\;&nbsp\;&nbsp\;&nbsp\;&nbsp\;&nbsp\;&nbsp\;</b></span></div><div style="text-align: left"><span style="font-family: Times New Roman"><b>&nbsp\;&nbsp\;&nbsp\;&nbsp\;&nbsp\;&nbsp\;&nbsp\;&nbsp\;&nbsp\;&nbsp\;&nbsp\;&nbsp\;&nbsp\;&nbsp\;&nbsp\;&nbsp\;&nbsp\;&nbsp\;&nbsp\;&nbsp\;Morgan Maness\, Rockingham County 4-H Agent NCCE</b></span></div><div style="text-align: left">&nbsp\;</div><div style="text-align: left"><span style="font-family: Times New Roman"><b>&nbsp\;&nbsp\;&nbsp\;&nbsp\;&nbsp\;&nbsp\;&nbsp\;&nbsp\;&nbsp\;&nbsp\;&nbsp\;&nbsp\;&nbsp\;&nbsp\;&nbsp\;Enhancing Agritourism with Partnerships</b></span></div><div style="text-align: left"><span style="font-family: Times New Roman"><b>&nbsp\;&nbsp\;&nbsp\;&nbsp\;&nbsp\;&nbsp\;&nbsp\;&nbsp\;&nbsp\;&nbsp\;&nbsp\;&nbsp\;&nbsp\;&nbsp\;&nbsp\;&nbsp\;&nbsp\;&nbsp\;&nbsp\;&nbsp\;Brenda Sutton\, Rockingham County Extension Director NCCE</b></span></div><div style="text-align: left">&nbsp\;</div><div style="text-align: left"><span style="font-family: Times New Roman"><b>&nbsp\;&nbsp\;&nbsp\;&nbsp\;&nbsp\;&nbsp\;&nbsp\;&nbsp\;&nbsp\;&nbsp\;&nbsp\;&nbsp\;&nbsp\;&nbsp\;&nbsp\;Livestock Considerations for Agritourism</b></span></div><div style="text-align: left"><span style="font-family: Times New Roman"><b>&nbsp\;&nbsp\;&nbsp\;&nbsp\;&nbsp\;&nbsp\;&nbsp\;&nbsp\;&nbsp\;&nbsp\;&nbsp\;&nbsp\;&nbsp\;&nbsp\;&nbsp\;&nbsp\;&nbsp\;&nbsp\;&nbsp\;&nbsp\;Ben Chase\, Livestock Agent&nbsp\;Rockingham &amp\; Guilford</b></span></div><div style="text-align: left"><span style="font-family: Times New Roman"><b>&nbsp\;&nbsp\;&nbsp\;&nbsp\;&nbsp\;&nbsp\;&nbsp\;&nbsp\;&nbsp\;&nbsp\;&nbsp\;&nbsp\;&nbsp\;&nbsp\;&nbsp\;&nbsp\;&nbsp\;&nbsp\;&nbsp\;&nbsp\;&nbsp\;&nbsp\;&nbsp\;&nbsp\;&nbsp\;&nbsp\;&nbsp\;&nbsp\;&nbsp\;Counties NCCE</b></span></div><div style="text-align: left">&nbsp\;</div><div style="text-align: left"><span style="font-family: Times New Roman"><b>&nbsp\;&nbsp\;&nbsp\;&nbsp\;&nbsp\;&nbsp\;&nbsp\;&nbsp\;&nbsp\;&nbsp\;&nbsp\;&nbsp\;&nbsp\;&nbsp\;&nbsp\;Experiences with Local Agritourism</b></span></div><div style="text-align: left"><span style="font-family: Times New Roman"><b>&nbsp\;&nbsp\;&nbsp\;&nbsp\;&nbsp\;&nbsp\;&nbsp\;&nbsp\;&nbsp\;&nbsp\;&nbsp\;&nbsp\;&nbsp\;&nbsp\;&nbsp\;&nbsp\;&nbsp\;&nbsp\;&nbsp\;&nbsp\;Kristi and Paul Marshall\, Riverbirch Vineyards</b></span></div><div style="text-align: center"><span style="font-family: Times New Roman">*************************************************************</span></div><div style="text-align: left">&nbsp\;</div><div style="text-align: left"><span style="font-family: Times New Roman"><b>Registration requested to Cooperative Extension 336-342-8230.</b></span></div></div>
LOCATION:Cooperative Extension Offices in the Agriculture Building 525 Hwy 65\, Reidsville NC 27320
UID:e.111.1259
SEQUENCE:3
DTSTAMP:20260424T220522Z
URL:https://business.reidsvillechamber.org/events/details/profitable-agritourism-in-rockingham-county-11-02-2009-1259
END:VEVENT

END:VCALENDAR
