BEGIN:VCALENDAR
VERSION:2.0
PRODID:-//ChamberMaster//Event Calendar 2.0//EN
METHOD:PUBLISH
X-PUBLISHED-TTL:P3D
REFRESH-INTERVAL:P3D
CALSCALE:GREGORIAN
BEGIN:VEVENT
DTSTART:20140911T120000Z
DTEND:20141231T210000Z
X-MICROSOFT-CDO-ALLDAYEVENT:FALSE
SUMMARY:Project Cinderella hosted by Partnership for Community Care
DESCRIPTION:Project Cinderella\n\nSponsored by Partnership for Community Care of Rockingham County\n\n\n\nHave a gently used prom dress\, formal gown or bridesmaid dress hanging in your closet that you no longer need? \n\nDon't wait another minute   DONATE IT!\n\nOur Asheboro office is collecting dresses\, shoes and accessories to distribute in the spring of 2015 to local high school girls in need.  Help us to inspire confidence and build a girl's self-esteem\, make her prom dream come true!\n\nDrop off your donations Monday-Friday from 8am to 4pm\n\nat 1309 Coach Rd Reidsville\, NC 27320\n\nFor more information contact: Jes Carruthers at (336)252-3632\n\nor Jcarruthers@P4Care.org
X-ALT-DESC;FMTTYPE=text/html:<span style="font-family:arial\;"><span style="font-size:14px\;">Project Cinderella<br />\nSponsored by <strong>Partnership for Community Care</strong> of Rockingham County<br />\n<br />\nHave a gently used prom dress\, formal gown or bridesmaid dress hanging in your closet that you no longer need?&nbsp\;<br />\nDon&rsquo\;t wait another minute &ndash\; <strong>DONATE IT</strong>!<br />\nOur Asheboro office is collecting dresses\, shoes and accessories to distribute in the spring of 2015 to local high school girls in need.&nbsp\; Help us to inspire confidence and build a girl&rsquo\;s self-esteem\, make her prom dream come true!<br />\n<strong>Drop off your donations Monday-Friday from 8am to 4pm<br />\nat 1309 Coach Rd Reidsville\, NC 27320</strong></span><br />\n<span style="font-size:12px\;"><span style="font-size:14px\;"><strong>For more information contact:</strong> Jes Carruthers at (336)252-3632<br />\nor Jcarruthers@P4Care.org</span></span></span><br />\n<br />\n&nbsp\;
LOCATION:
UID:e.111.2918
SEQUENCE:3
DTSTAMP:20260422T162026Z
URL:https://business.reidsvillechamber.org/events/details/project-cinderella-hosted-by-partnership-for-community-care-09-11-2014-2918
END:VEVENT

END:VCALENDAR
