BEGIN:VCALENDAR
VERSION:2.0
PRODID:-//ChamberMaster//Event Calendar 2.0//EN
METHOD:PUBLISH
X-PUBLISHED-TTL:P3D
REFRESH-INTERVAL:P3D
CALSCALE:GREGORIAN
BEGIN:VEVENT
DTSTART:20140927T140000Z
DTEND:20140927T160000Z
X-MICROSOFT-CDO-ALLDAYEVENT:FALSE
SUMMARY:Project Eliminate Brunch and Fashion Show
DESCRIPTION:The Eliminate Project is Kiwanis International's global campaign to help eliminate maternal/neonatal tetanus from the face of Earth.\n\n\n\nCafe' 99\n\n128 S. Scales Street\n\nDowntown Reidsville\, NC
X-ALT-DESC;FMTTYPE=text/html:The Eliminate Project is Kiwanis International&#39\;s global campaign to help eliminate maternal/neonatal tetanus from the face of Earth.<br />\n<br />\nCafe&#39\; 99<br />\n128 S. Scales Street<br />\nDowntown Reidsville\, NC
LOCATION:
UID:e.111.2926
SEQUENCE:3
DTSTAMP:20260422T195805Z
URL:https://business.reidsvillechamber.org/events/details/project-eliminate-brunch-and-fashion-show-09-27-2014-2926
END:VEVENT

END:VCALENDAR
