BEGIN:VCALENDAR
VERSION:2.0
PRODID:-//ChamberMaster//Event Calendar 2.0//EN
METHOD:PUBLISH
X-PUBLISHED-TTL:P3D
REFRESH-INTERVAL:P3D
CALSCALE:GREGORIAN
BEGIN:VEVENT
DTSTART:20110927T214500Z
DTEND:20110927T231500Z
X-MICROSOFT-CDO-ALLDAYEVENT:FALSE
SUMMARY:Prostate Cancer Screening
DESCRIPTION:Annie Penn Hospital will hold a free Prostate Cancer Screening in the Annie Penn Cancer Center on Tuesday\, September 27\, from 5:45-7:15 pm. The screening is open to the public.  Registration is required. For more information\, or to register\, call Health Connect @832-8000
X-ALT-DESC;FMTTYPE=text/html:<span style="font-size: 12pt\; font-family: calibri\; mso-fareast-font-family: 'times new roman'\; mso-bidi-font-family: 'times new roman'\; mso-ansi-language: en-us\; mso-fareast-language: en-us\; mso-bidi-language: ar-sa"><font color="#000000" face="Times New Roman">Annie Penn Hospital will hold a free Prostate Cancer Screening in the Annie Penn Cancer Center on <b style="mso-bidi-font-weight: normal">Tuesday</b>\, <b>September 27</b>\, from 5:45-7:15 pm. The screening is open to the public.<span style="mso-spacerun: yes">&nbsp\; </span>Registration is required. For more information\, or to register\, call Health Connect @832-8000</font></span>
LOCATION:Annie Penn Hospital
UID:e.111.1995
SEQUENCE:3
DTSTAMP:20260423T100924Z
URL:https://business.reidsvillechamber.org/events/details/prostate-cancer-screening-09-27-2011-1995
END:VEVENT

END:VCALENDAR
