BEGIN:VCALENDAR
VERSION:2.0
PRODID:-//ChamberMaster//Event Calendar 2.0//EN
METHOD:PUBLISH
X-PUBLISHED-TTL:P3D
REFRESH-INTERVAL:P3D
CALSCALE:GREGORIAN
BEGIN:VEVENT
DTSTART:20101120T000000Z
DTEND:20101120T043000Z
X-MICROSOFT-CDO-ALLDAYEVENT:FALSE
SUMMARY:Protegrity Wealth Management Presents: Matt Dylan Live In Concert
DESCRIPTION:Free Admission\n\nHors Devours will be served\n\nHarbor Ridge Winery on location\n\nDonate (2) canned food items to enter to win\n\nCarry Underwood tickets\, receive a free gift\n\nand to benefit\n\n2nd Harvest Food Bank of Northwest NC\n\n*Donations can be dropped off in advance at:\n\nProtegrity Wealth Management\n\n408 South Main Street in Reidsville\n\n\n\nA special thanks to our sponsors:\n\nSecond Harvest Food Bank\n\nand\n\n93.1 The Wolf
X-ALT-DESC;FMTTYPE=text/html:Free Admission<br />\nHors Devours will be served<br />\nHarbor Ridge Winery on location<br />\nDonate (2) canned food items to enter to win<br />\nCarry Underwood tickets\, receive a free gift<br />\nand to benefit<br />\n2nd Harvest Food Bank of Northwest NC<br />\n*Donations can be dropped off in advance at:<br />\nProtegrity Wealth Management<br />\n408 South Main Street in Reidsville<br />\n<br />\nA special thanks to our sponsors:<br />\nSecond Harvest Food Bank<br />\nand<br />\n93.1 The Wolf
LOCATION:Reidsville Event Center 223 South Scales Street\, Reidsville
UID:e.111.1535
SEQUENCE:3
DTSTAMP:20260424T022958Z
URL:https://business.reidsvillechamber.org/events/details/protegrity-wealth-management-presents-matt-dylan-live-in-concert-11-19-2010-1535
END:VEVENT

END:VCALENDAR
