BEGIN:VCALENDAR
VERSION:2.0
PRODID:-//ChamberMaster//Event Calendar 2.0//EN
METHOD:PUBLISH
X-PUBLISHED-TTL:P3D
REFRESH-INTERVAL:P3D
CALSCALE:GREGORIAN
BEGIN:VEVENT
DTSTART:20100612T133000Z
DTEND:20100612T153000Z
X-MICROSOFT-CDO-ALLDAYEVENT:FALSE
SUMMARY:Quilting Class
DESCRIPTION:BLOCK-a-MONTH QUILTING\n\nwith Robyn McCann & Genene Gilliam\n\nCome start your sampler quilt top today! Join us as we work on a new block each month. Beginners welcome. All piecing is done by hand. Supply list available upon registration. Ages 12-Adult.
X-ALT-DESC;FMTTYPE=text/html:BLOCK-a-MONTH QUILTING\n<br>with Robyn McCann & Genene Gilliam\n<br>Come start your sampler quilt top today! Join us as we work on a new block each month. Beginners welcome. All piecing is done by hand. Supply list available upon registration. Ages 12-Adult.
LOCATION:Upstairs studio at Everyday Art\, 209 SW Market Street\, Downtown Reidville
UID:e.111.1464
SEQUENCE:3
DTSTAMP:20260424T100642Z
URL:https://business.reidsvillechamber.org/events/details/quilting-class-06-12-2010-1464
END:VEVENT

END:VCALENDAR
