BEGIN:VCALENDAR
VERSION:2.0
PRODID:-//ChamberMaster//Event Calendar 2.0//EN
METHOD:PUBLISH
X-PUBLISHED-TTL:P3D
REFRESH-INTERVAL:P3D
CALSCALE:GREGORIAN
BEGIN:VEVENT
DTSTART:20091024T120000Z
DTEND:20091024T160000Z
X-MICROSOFT-CDO-ALLDAYEVENT:FALSE
SUMMARY:Race For Reidsville
DESCRIPTION:2009 5K Run and 1Mile Fun RunSponsored by the Reidsville Junior Service League and Lake Reidsville   Age Divisions (Male and Female) 1 mile fun run/walk: 7-9 and 10-14 (All ages may register but awards will only be given to these age groups)5K run/walk: 30 and under\, 31-40\, 41-50\, 51-60\, 61 and over Awards5K run/walk         Top 3 male/female overall (trophies)         Top 3 in each age categories in each age division (trophies)Kid's 1-mile run/walk          Top 3 male/female overall in the 7-9 and 10-14 divisions (medals)
X-ALT-DESC;FMTTYPE=text/html:<div>2009 5K&nbsp\;Run and 1Mile Fun Run</div><div><span style="font-size: small\;">Sponsored by the Reidsville Junior Service League and Lake Reidsville</span></div><div>&nbsp\;</div><div>&nbsp\;</div><div>&nbsp\;</div><div><u>Age Divisions (Male and Female)</u></div><div>&nbsp\;</div><div><u>1 mile fun run/walk: </u>7-9 and 10-14 (<span style="font-size: x-small\;">All ages may register but awards will only be given to these age groups)</span></div><div><u>5K run/walk:</u> 30 and under\, 31-40\, 41-50\, 51-60\, 61 and over</div><div>&nbsp\;</div><div><u>Awards</u></div><div><u>5K run/walk</u></div><div>&nbsp\;&nbsp\;&nbsp\;&nbsp\;&nbsp\;&nbsp\;&nbsp\;&nbsp\; Top 3 male/female overall (trophies)</div><div>&nbsp\;&nbsp\;&nbsp\;&nbsp\;&nbsp\;&nbsp\;&nbsp\;&nbsp\; Top 3 in each age categories in each age division (trophies)</div><div><u>Kid&rsquo\;s 1-mile run/walk</u></div><div>&nbsp\;&nbsp\;&nbsp\;&nbsp\;&nbsp\;&nbsp\;&nbsp\;&nbsp\;&nbsp\; Top 3 male/female overall in the 7-9 and 10-14 divisions (medals)</div><div>&nbsp\;</div><br /><div>&nbsp\;</div>
LOCATION:Lake Reidsville Boat Dock630 Waterworks Road
UID:e.111.1213
SEQUENCE:3
DTSTAMP:20260424T234833Z
URL:https://business.reidsvillechamber.org/events/details/race-for-reidsville-10-24-2009-1213
END:VEVENT

END:VCALENDAR
