BEGIN:VCALENDAR
VERSION:2.0
PRODID:-//ChamberMaster//Event Calendar 2.0//EN
METHOD:PUBLISH
X-PUBLISHED-TTL:P3D
REFRESH-INTERVAL:P3D
CALSCALE:GREGORIAN
BEGIN:VEVENT
DTSTART:20120427T230000Z
DTEND:20120427T230000Z
X-MICROSOFT-CDO-ALLDAYEVENT:FALSE
SUMMARY:Ram Jam
DESCRIPTION:The Ram Jam is April 27th at 7:00pm in the Reidsville High School Auditorium. Ram Jam is a student based talent show put on by APFCU\, FBLA and the Theatre Arts crew. There will be 12 talent acts performing that night. It is $2 for adults $1 for students and the money we raise will go towards our scholarship fund!
X-ALT-DESC;FMTTYPE=text/html:<span style="font-size: medium"><span style="font-family: calibri"><span style="font-size: 11pt"><span style="font-family: calibri\,sans-serif">The Ram Jam is April 27<sup>th</sup> at 7:00pm in the Reidsville High School </span></span><span style="font-size: 11pt"><span style="font-family: calibri\,sans-serif">Auditorium. </span></span>Ram Jam&nbsp\;is a student based talent show put on by APFCU\, FBLA and the Theatre Arts crew. There will be 12 talent acts performing that night. It is $2 for adults $1 for students and the money we raise will go towards our scholarship fund! </span></span><br />\n
LOCATION:The Reidsville High School Auditorium
UID:e.111.2199
SEQUENCE:3
DTSTAMP:20260421T113321Z
URL:https://business.reidsvillechamber.org/events/details/ram-jam-04-27-2012-2199
END:VEVENT

END:VCALENDAR
