BEGIN:VCALENDAR
VERSION:2.0
PRODID:-//ChamberMaster//Event Calendar 2.0//EN
METHOD:PUBLISH
X-PUBLISHED-TTL:P3D
REFRESH-INTERVAL:P3D
CALSCALE:GREGORIAN
BEGIN:VEVENT
DTSTART:20120110T230000Z
DTEND:20120111T013000Z
X-MICROSOFT-CDO-ALLDAYEVENT:FALSE
SUMMARY:RCC Seminar-How to Choose the Best Business For You
DESCRIPTION:Mike Collins will lead this seminar
X-ALT-DESC;FMTTYPE=text/html:Mike Collins will lead this seminar
LOCATION:RCC Small Business Center BLLC-206
UID:e.111.2106
SEQUENCE:3
DTSTAMP:20260421T162407Z
URL:https://business.reidsvillechamber.org/events/details/rcc-seminar-how-to-choose-the-best-business-for-you-01-10-2012-2106
END:VEVENT

END:VCALENDAR
