BEGIN:VCALENDAR
VERSION:2.0
PRODID:-//ChamberMaster//Event Calendar 2.0//EN
METHOD:PUBLISH
X-PUBLISHED-TTL:P3D
REFRESH-INTERVAL:P3D
CALSCALE:GREGORIAN
BEGIN:VEVENT
DTSTART:20120124T230000Z
DTEND:20120124T230000Z
X-MICROSOFT-CDO-ALLDAYEVENT:FALSE
SUMMARY:RCC Seminar-Inexpensive & Creative Ways to Market Your Business
DESCRIPTION:Seminar Lead by Emily Ballance
X-ALT-DESC;FMTTYPE=text/html:Seminar Lead by Emily Ballance
LOCATION:RCC Small Business Center BLLC-206
UID:e.111.2108
SEQUENCE:3
DTSTAMP:20260421T163514Z
URL:https://business.reidsvillechamber.org/events/details/rcc-seminar-inexpensive-creative-ways-to-market-your-business-01-24-2012-2108
END:VEVENT

END:VCALENDAR
