BEGIN:VCALENDAR
VERSION:2.0
PRODID:-//ChamberMaster//Event Calendar 2.0//EN
METHOD:PUBLISH
X-PUBLISHED-TTL:P3D
REFRESH-INTERVAL:P3D
CALSCALE:GREGORIAN
BEGIN:VEVENT
DTSTART:20120131T230000Z
DTEND:20120201T013000Z
X-MICROSOFT-CDO-ALLDAYEVENT:FALSE
SUMMARY:RCC Seminar-Mobile Marketing with Your Cell Phone Devices
DESCRIPTION:Seminar Lead by Kimberleigh Forrester
X-ALT-DESC;FMTTYPE=text/html:Seminar Lead by Kimberleigh Forrester
LOCATION:RCC Small Business Center BLLC-206
UID:e.111.2109
SEQUENCE:3
DTSTAMP:20260421T161854Z
URL:https://business.reidsvillechamber.org/events/details/rcc-seminar-mobile-marketing-with-your-cell-phone-devices-01-31-2012-2109
END:VEVENT

END:VCALENDAR
