BEGIN:VCALENDAR
VERSION:2.0
PRODID:-//ChamberMaster//Event Calendar 2.0//EN
METHOD:PUBLISH
X-PUBLISHED-TTL:P3D
REFRESH-INTERVAL:P3D
CALSCALE:GREGORIAN
BEGIN:VEVENT
DTSTART;VALUE=DATE:20111209
DTEND;VALUE=DATE:20120125
TRANSP:TRANSPARENT
X-MICROSOFT-CDO-ALLDAYEVENT:TRUE
SUMMARY:RCC Small Business Center Classes and Workshops Beginning in 2012
DESCRIPTION:The Rockingham Community College's Small Business Center has an exciting list of seminars and classes beginning in January 2012.  \n\n\n	\n		 \n\n\n	\n		Make us part of your New Year's Resolutions in 2012!\n\n\n	\n		 \n\n\n	\n		Classes\n\n\n	\n		 \n\n\n	\n		"How to Start and/or Stay In Your Own Business"\n\n\n	\n		Section #21582\n\n\n	\n		January 23 - March 26\, 2012\n\n\n	\n		Mondays\n\n\n	\n		6:00 - 8:30 PM\n\n\n	\n		ADT-105\n\n\n	\n		 \n\n\n	\n		 \n\n\n	\n		"Agricultural Entrepreneur"\n\n\n	\n		(How to Start and/or Stay In Your Own Agriculture Business)\n\n\n	\n		Section #21581\n\n\n	\n		January 5 - February 23\, 2012\n\n\n	\n		Thursdays\n\n\n	\n		6:00 - 9:00 PM\n\n\n	\n		ADT-103\n\n\n	\n		\n			 \n	\n	\n		\n			*If you have lost your job and are interested in starting your own business.  Contact the SBC for information about our G.A.T.E. program.  (Cathy Wheeler\, Ext. 2316)\n	\n	\n		\n			 \n	\n	\n		\n			Seminars\n	\n	\n		\n			 \n	\n	\n		\n			All seminars are held in BLLC-206.\n	\n	\n		\n			 \n	\n	\n		\n			"How to Choose the Best Business For You"\n	\n	\n		\n			Mike Collins\n	\n	\n		\n			Tuesday\, January 10\, 2012\n	\n	\n		\n			6:00 - 8:30 PM\n	\n	\n		\n			Section #21583\n	\n	\n		\n			 \n	\n	\n		\n			"That One Thing That Brings You Business"\n	\n	\n		\n			Kelly & Bill Swanson\n	\n	\n		\n			Tuesday\, January 17\, 2012\n	\n	\n		\n			6:00 - 8:30 PM\n	\n	\n		\n			Section #21584\n	\n	\n		\n			 \n	\n	\n		\n			"Inexpensive & Creative Ways to Market Your Business"\n	\n	\n		\n			Emily Ballance\n	\n	\n		\n			Tuesday\, January 24\, 2012\n	\n	\n		\n			6:00 - 8:30 PM\n	\n	\n		\n			Section #21585\n	\n	\n		\n			 \n	\n	\n		\n			"Mobile Marketing with Your Cell Phone Devices"\n	\n	\n		\n			Kimberleigh Forrester\n	\n	\n		\n			Tuesday\, January 31\, 2012\n	\n	\n		\n			6:00 - 8:30 PM\n	\n	\n		\n			Section #21586\n	\n	\n		\n			 \n	\n	\n		\n			Contact Cathy Wheeler at 342-4261\, Ext 2316 for information or pre-registration.\n	\n	\n		\n			 \n	\n	\n		\n			 \n	\n	\n		\n			The Small Business Center sends best wishes for a Happy Holiday Season and looks forward to seeing you in the New Year!\n	\n	\n		\n			 \n	\n	\n		\n			 \n	\n	\n		\n			 \n	\n\n\n	\n		Cathy Wheeler\n\n\n	\n		Director\, SBC\n\n\n	\n		336-342-4261 Ext 2316\n\n\n	\n		Visit our Small Business Blog\n\n\n	\n		www.rccsmallbusinesscenter.wordpress.com\n\n\n	  \nThe Rockingham Community College's Small Business Center has an exciting list of seminars and classes beginning in January 2012.
X-ALT-DESC;FMTTYPE=text/html:<div>\n	<p class="yiv1695530719MsoNormal" style="margin: 0in 0in 0pt">\n		<strong><span style="font-family: 'sans-serif'\; font-size: 10pt">The Rockingham Community College&#39\;s Small Business Center has an exciting list of seminars and classes beginning in January 2012.</span></strong><span style="font-family: 'sans-serif'\; font-size: 10pt">&nbsp\; </span></p>\n</div>\n<div>\n	<p class="yiv1695530719MsoNormal" style="margin: 0in 0in 0pt">\n		<span style="font-family: 'sans-serif'\; font-size: 10pt">&nbsp\;</span></p>\n</div>\n<div>\n	<p class="yiv1695530719MsoNormal" style="margin: 0in 0in 0pt">\n		<strong><span style="font-family: 'sans-serif'">Make us part of your&nbsp\;New Year&#39\;s Resolutions in&nbsp\;2012!</span></strong></p>\n</div>\n<div>\n	<p class="yiv1695530719MsoNormal" style="margin: 0in 0in 0pt">\n		<span style="font-family: 'sans-serif'\; font-size: 10pt">&nbsp\;</span></p>\n</div>\n<div>\n	<p class="yiv1695530719MsoNormal" style="margin: 0in 0in 0pt">\n		<strong><span style="font-family: 'sans-serif'">Classes</span></strong></p>\n</div>\n<div>\n	<p class="yiv1695530719MsoNormal" style="margin: 0in 0in 0pt">\n		<span style="font-family: 'sans-serif'\; font-size: 10pt">&nbsp\;</span></p>\n</div>\n<div>\n	<p class="yiv1695530719MsoNormal" style="margin: 0in 0in 0pt">\n		<strong><span style="font-family: 'sans-serif'\; font-size: 10pt">&quot\;How to Start and/or Stay In Your Own Business&quot\;</span></strong></p>\n</div>\n<div>\n	<p class="yiv1695530719MsoNormal" style="margin: 0in 0in 0pt">\n		<strong><span style="font-family: 'sans-serif'\; font-size: 10pt">Section #21582</span></strong></p>\n</div>\n<div>\n	<p class="yiv1695530719MsoNormal" style="margin: 0in 0in 0pt">\n		<span style="font-family: 'sans-serif'\; font-size: 10pt">January 23 - March 26\, 2012</span></p>\n</div>\n<div>\n	<p class="yiv1695530719MsoNormal" style="margin: 0in 0in 0pt">\n		<span style="font-family: 'sans-serif'\; font-size: 10pt">Mondays</span></p>\n</div>\n<div>\n	<p class="yiv1695530719MsoNormal" style="margin: 0in 0in 0pt">\n		<span style="font-family: 'sans-serif'\; font-size: 10pt">6:00 - 8:30 PM</span></p>\n</div>\n<div>\n	<p class="yiv1695530719MsoNormal" style="margin: 0in 0in 0pt">\n		<span style="font-family: 'sans-serif'\; font-size: 10pt">ADT-105</span></p>\n</div>\n<div>\n	<p class="yiv1695530719MsoNormal" style="margin: 0in 0in 0pt">\n		<span style="font-family: 'sans-serif'\; font-size: 10pt">&nbsp\;</span></p>\n</div>\n<div>\n	<p class="yiv1695530719MsoNormal" style="margin: 0in 0in 0pt">\n		<span style="font-family: 'sans-serif'\; font-size: 10pt">&nbsp\;</span></p>\n</div>\n<div>\n	<p class="yiv1695530719MsoNormal" style="margin: 0in 0in 0pt">\n		<strong><span style="font-family: 'sans-serif'\; font-size: 10pt">&quot\;Agricultural Entrepreneur&quot\;</span></strong></p>\n</div>\n<div>\n	<p class="yiv1695530719MsoNormal" style="margin: 0in 0in 0pt">\n		<span style="font-family: 'sans-serif'\; font-size: 10pt">(How to Start and/or Stay In Your Own Agriculture Business)</span></p>\n</div>\n<div>\n	<p class="yiv1695530719MsoNormal" style="margin: 0in 0in 0pt">\n		<strong><span style="font-family: 'sans-serif'\; font-size: 10pt">Section #21581</span></strong></p>\n</div>\n<div>\n	<p class="yiv1695530719MsoNormal" style="margin: 0in 0in 0pt">\n		<span style="font-family: 'sans-serif'\; font-size: 10pt">January 5 - February 23\, 2012</span></p>\n</div>\n<div>\n	<p class="yiv1695530719MsoNormal" style="margin: 0in 0in 0pt">\n		<span style="font-family: 'sans-serif'\; font-size: 10pt">Thursdays</span></p>\n</div>\n<div>\n	<p class="yiv1695530719MsoNormal" style="margin: 0in 0in 0pt">\n		<span style="font-family: 'sans-serif'\; font-size: 10pt">6:00 - 9:00 PM</span></p>\n</div>\n<div>\n	<p class="yiv1695530719MsoNormal" style="margin: 0in 0in 0pt">\n		<span style="font-family: 'sans-serif'\; font-size: 10pt">ADT-103</span></p>\n</div>\n<div>\n	<div>\n		<p class="yiv1695530719MsoNormal" style="margin: 0in 0in 0pt">\n			<span style="font-family: 'sans-serif'\; font-size: 10pt">&nbsp\;</span></p>\n	</div>\n	<div>\n		<p class="yiv1695530719MsoNormal" style="margin: 0in 0in 0pt">\n			<strong><span style="font-family: 'sans-serif'\; font-size: 10pt">*If you have lost your job and are interested in starting your own business.&nbsp\; Contact&nbsp\;the SBC&nbsp\;for information about our G.A.T.E. program.&nbsp\; (Cathy Wheeler\, Ext. 2316)</span></strong></p>\n	</div>\n	<div>\n		<p class="yiv1695530719MsoNormal" style="margin: 0in 0in 0pt">\n			<span style="font-family: 'sans-serif'\; font-size: 10pt">&nbsp\;</span></p>\n	</div>\n	<div>\n		<p class="yiv1695530719MsoNormal" style="margin: 0in 0in 0pt">\n			<strong><span style="font-family: 'sans-serif'">Seminars</span></strong></p>\n	</div>\n	<div>\n		<p class="yiv1695530719MsoNormal" style="margin: 0in 0in 0pt">\n			<span style="font-family: 'sans-serif'\; font-size: 10pt">&nbsp\;</span></p>\n	</div>\n	<div>\n		<p class="yiv1695530719MsoNormal" style="margin: 0in 0in 0pt">\n			<strong><span style="font-family: 'sans-serif'\; font-size: 10pt">All seminars are held in BLLC-206.</span></strong></p>\n	</div>\n	<div>\n		<p class="yiv1695530719MsoNormal" style="margin: 0in 0in 0pt">\n			<span style="font-family: 'sans-serif'\; font-size: 10pt">&nbsp\;</span></p>\n	</div>\n	<div>\n		<p class="yiv1695530719MsoNormal" style="margin: 0in 0in 0pt">\n			<strong><span style="font-family: 'sans-serif'\; font-size: 10pt">&quot\;How to Choose the Best Business For You&quot\;</span></strong></p>\n	</div>\n	<div>\n		<p class="yiv1695530719MsoNormal" style="margin: 0in 0in 0pt">\n			<span style="font-family: 'sans-serif'\; font-size: 10pt">Mike Collins</span></p>\n	</div>\n	<div>\n		<p class="yiv1695530719MsoNormal" style="margin: 0in 0in 0pt">\n			<span style="font-family: 'sans-serif'\; font-size: 10pt">Tuesday\, January 10\, 2012</span></p>\n	</div>\n	<div>\n		<p class="yiv1695530719MsoNormal" style="margin: 0in 0in 0pt">\n			<span style="font-family: 'sans-serif'\; font-size: 10pt">6:00 - 8:30 PM</span></p>\n	</div>\n	<div>\n		<p class="yiv1695530719MsoNormal" style="margin: 0in 0in 0pt">\n			<span style="font-family: 'sans-serif'\; font-size: 10pt">Section #21583</span></p>\n	</div>\n	<div>\n		<p class="yiv1695530719MsoNormal" style="margin: 0in 0in 0pt">\n			<span style="font-family: 'sans-serif'\; font-size: 10pt">&nbsp\;</span></p>\n	</div>\n	<div>\n		<p class="yiv1695530719MsoNormal" style="margin: 0in 0in 0pt">\n			<strong><span style="font-family: 'sans-serif'\; font-size: 10pt">&quot\;That One Thing That Brings You Business&quot\;</span></strong></p>\n	</div>\n	<div>\n		<p class="yiv1695530719MsoNormal" style="margin: 0in 0in 0pt">\n			<span style="font-family: 'sans-serif'\; font-size: 10pt">Kelly &amp\; Bill Swanson</span></p>\n	</div>\n	<div>\n		<p class="yiv1695530719MsoNormal" style="margin: 0in 0in 0pt">\n			<span style="font-family: 'sans-serif'\; font-size: 10pt">Tuesday\, January 17\, 2012</span></p>\n	</div>\n	<div>\n		<p class="yiv1695530719MsoNormal" style="margin: 0in 0in 0pt">\n			<span style="font-family: 'sans-serif'\; font-size: 10pt">6:00 - 8:30 PM</span></p>\n	</div>\n	<div>\n		<p class="yiv1695530719MsoNormal" style="margin: 0in 0in 0pt">\n			<span style="font-family: 'sans-serif'\; font-size: 10pt">Section #21584</span></p>\n	</div>\n	<div>\n		<p class="yiv1695530719MsoNormal" style="margin: 0in 0in 0pt">\n			<span style="font-family: 'sans-serif'\; font-size: 10pt">&nbsp\;</span></p>\n	</div>\n	<div>\n		<p class="yiv1695530719MsoNormal" style="margin: 0in 0in 0pt">\n			<strong><span style="font-family: 'sans-serif'\; font-size: 10pt">&quot\;Inexpensive &amp\; Creative Ways to Market Your Business&quot\;</span></strong></p>\n	</div>\n	<div>\n		<p class="yiv1695530719MsoNormal" style="margin: 0in 0in 0pt">\n			<span style="font-family: 'sans-serif'\; font-size: 10pt">Emily Ballance</span></p>\n	</div>\n	<div>\n		<p class="yiv1695530719MsoNormal" style="margin: 0in 0in 0pt">\n			<span style="font-family: 'sans-serif'\; font-size: 10pt">Tuesday\, January 24\, 2012</span></p>\n	</div>\n	<div>\n		<p class="yiv1695530719MsoNormal" style="margin: 0in 0in 0pt">\n			<span style="font-family: 'sans-serif'\; font-size: 10pt">6:00 - 8:30 PM</span></p>\n	</div>\n	<div>\n		<p class="yiv1695530719MsoNormal" style="margin: 0in 0in 0pt">\n			<span style="font-family: 'sans-serif'\; font-size: 10pt">Section #21585</span></p>\n	</div>\n	<div>\n		<p class="yiv1695530719MsoNormal" style="margin: 0in 0in 0pt">\n			<span style="font-family: 'sans-serif'\; font-size: 10pt">&nbsp\;</span></p>\n	</div>\n	<div>\n		<p class="yiv1695530719MsoNormal" style="margin: 0in 0in 0pt">\n			<strong><span style="font-family: 'sans-serif'\; font-size: 10pt">&quot\;Mobile Marketing with Your Cell Phone Devices&quot\;</span></strong></p>\n	</div>\n	<div>\n		<p class="yiv1695530719MsoNormal" style="margin: 0in 0in 0pt">\n			<span style="font-family: 'sans-serif'\; font-size: 10pt">Kimberleigh Forrester</span></p>\n	</div>\n	<div>\n		<p class="yiv1695530719MsoNormal" style="margin: 0in 0in 0pt">\n			<span style="font-family: 'sans-serif'\; font-size: 10pt">Tuesday\, January 31\, 2012</span></p>\n	</div>\n	<div>\n		<p class="yiv1695530719MsoNormal" style="margin: 0in 0in 0pt">\n			<span style="font-family: 'sans-serif'\; font-size: 10pt">6:00 - 8:30 PM</span></p>\n	</div>\n	<div>\n		<p class="yiv1695530719MsoNormal" style="margin: 0in 0in 0pt">\n			<span style="font-family: 'sans-serif'\; font-size: 10pt">Section #21586</span></p>\n	</div>\n	<div>\n		<p class="yiv1695530719MsoNormal" style="margin: 0in 0in 0pt">\n			<span style="font-family: 'sans-serif'\; font-size: 10pt">&nbsp\;</span></p>\n	</div>\n	<div>\n		<p class="yiv1695530719MsoNormal" style="margin: 0in 0in 0pt">\n			<strong><span style="font-family: 'sans-serif'\; font-size: 10pt">Contact Cathy Wheeler at 342-4261\, Ext 2316 for information or pre-registration.</span></strong></p>\n	</div>\n	<div>\n		<p class="yiv1695530719MsoNormal" style="margin: 0in 0in 0pt">\n			<span style="font-family: 'sans-serif'\; font-size: 10pt">&nbsp\;</span></p>\n	</div>\n	<div>\n		<p class="yiv1695530719MsoNormal" style="margin: 0in 0in 0pt">\n			<span style="font-family: 'sans-serif'\; font-size: 10pt">&nbsp\;</span></p>\n	</div>\n	<div>\n		<p class="yiv1695530719MsoNormal" style="margin: 0in 0in 0pt">\n			<em><b><span style="font-family: 'sans-serif'">The Small Business Center sends best wishes for a Happy Holiday Season and looks forward to seeing you in the New Year!</span></b></em></p>\n	</div>\n	<div>\n		<p class="yiv1695530719MsoNormal" style="margin: 0in 0in 0pt">\n			<span style="font-family: 'sans-serif'\; font-size: 10pt">&nbsp\;</span></p>\n	</div>\n	<div>\n		<p class="yiv1695530719MsoNormal" style="margin: 0in 0in 0pt">\n			<span style="font-family: 'sans-serif'\; font-size: 10pt">&nbsp\;</span></p>\n	</div>\n	<div>\n		<p class="yiv1695530719MsoNormal" style="margin: 0in 0in 0pt">\n			<span style="font-family: 'sans-serif'\; font-size: 10pt">&nbsp\;</span></p>\n	</div>\n</div>\n<div>\n	<p class="yiv1695530719MsoNormal" style="margin: 0in 0in 0pt">\n		<span style="font-family: 'sans-serif'\; font-size: 10pt">Cathy Wheeler</span></p>\n</div>\n<div>\n	<p class="yiv1695530719MsoNormal" style="margin: 0in 0in 0pt">\n		<span style="font-family: 'sans-serif'\; font-size: 10pt">Director\, SBC</span></p>\n</div>\n<div id="yui_3_2_0_1_132327109364191">\n	<p class="yiv1695530719MsoNormal" id="yui_3_2_0_1_132327109364190" style="margin: 0in 0in 0pt">\n		<span id="yui_3_2_0_1_132327109364189" style="font-family: 'sans-serif'\; font-size: 10pt">336-342-4261 Ext 2316</span></p>\n</div>\n<div>\n	<p class="yiv1695530719MsoNormal" style="margin: 0in 0in 0pt">\n		<span style="font-family: 'sans-serif'\; font-size: 10pt">Visit our <em><span style="font-family: 'sans-serif'">Small Business Blog</span></em></span></p>\n</div>\n<div>\n	<p class="yiv1695530719MsoNormal" style="margin: 0in 0in 0pt">\n		<span style="font-family: 'sans-serif'\; font-size: 10pt"><a href="http://www.rccsmallbusinesscenter.wordpress.com/" rel="nofollow" target="_blank">www.rccsmallbusinesscenter.wordpress.com</a></span></p>\n</div>\n<p class="yiv1695530719MsoNormal" style="margin: 0in 0in 0pt">\n	<span style="font-family: 'sans-serif'\; font-size: 10pt">&nbsp\;<span _fck_bookmark="1" style="display: none">&nbsp\;</span></span></p>\nThe Rockingham Community College&#39\;s Small Business Center has an exciting list of seminars and classes beginning in January 2012.
LOCATION:Rockingham Community College's Small Business Center
UID:e.111.2105
SEQUENCE:3
DTSTAMP:20260421T161100Z
URL:https://business.reidsvillechamber.org/events/details/rcc-small-business-center-classes-and-workshops-beginning-in-2012-12-09-2011-2105
END:VEVENT

END:VCALENDAR
