BEGIN:VCALENDAR
VERSION:2.0
PRODID:-//ChamberMaster//Event Calendar 2.0//EN
METHOD:PUBLISH
X-PUBLISHED-TTL:P3D
REFRESH-INTERVAL:P3D
CALSCALE:GREGORIAN
BEGIN:VEVENT
DTSTART:20091013T220000Z
DTEND:20091014T003000Z
X-MICROSOFT-CDO-ALLDAYEVENT:FALSE
SUMMARY:RCC Small Business Seminar-''How to Promote Your Book Now''
DESCRIPTION:"How to Promote Your Book Now"Have you always dreamed of attaining great success with a book\, but did not know where to begin?  Author\, L. Diane Wolfe walks you through the steps\, from creating a marketable product to generating publicity.  All of the options available will be outlined\, including the incredible potential of the Internet as a resource and platform for your work\, as well as options for articles\, manuscripts and music.  Anyone serious about promoting their work is encouraged to attend this lively seminar.  Presenter: L. Diane WolfeSection # 14431 October 13
X-ALT-DESC;FMTTYPE=text/html:<div>&nbsp\;<p class="MsoNormal" style="text-align: center\; mso-pagination: widow-orphan"><span style="font-weight: bold\; font-family: Verdana\; mso-default-font-family: Verdana\; mso-ascii-font-family: Verdana\; mso-latin-font-family: Verdana\; mso-greek-font-family: Verdana\; mso-cyrillic-font-family: Verdana\; mso-latinext-font-family: Verdana\; language: EN\; mso-ansi-language: EN">&ldquo\;How to Promote Your Book Now&rdquo\;<o:p></o:p></span></p><p class="MsoNormal" style="mso-pagination: none"><span style="font-size: 9pt\; font-family: Verdana\; mso-default-font-family: Verdana\; mso-ascii-font-family: Verdana\; mso-latin-font-family: Verdana\; mso-greek-font-family: Verdana\; mso-cyrillic-font-family: Verdana\; mso-latinext-font-family: Verdana\; language: EN\; mso-ansi-language: EN">Have you always dreamed of attaining great success with a book\, but did not know where to begin?<span style="mso-spacerun: yes">&nbsp\; </span>Author\, L. Diane Wolfe walks you through the steps\, from creating a marketable product to generating publicity.<span style="mso-spacerun: yes">&nbsp\; </span><o:p></o:p></span></p><p class="MsoNormal" style="mso-pagination: widow-orphan"><span style="font-size: 9pt\; font-family: Verdana\; mso-default-font-family: Verdana\; mso-ascii-font-family: Verdana\; mso-latin-font-family: Verdana\; mso-greek-font-family: Verdana\; mso-cyrillic-font-family: Verdana\; mso-latinext-font-family: Verdana\; language: EN\; mso-ansi-language: EN">All of the options available will be outlined\, including the incredible potential of the Internet as a resource and platform for your work\, as well as options for articles\, manuscripts and music.<span style="mso-spacerun: yes">&nbsp\; </span>Anyone serious about promoting their work is encouraged to attend this lively seminar. <o:p></o:p></span></p><p class="MsoNormal" style="mso-pagination: widow-orphan"><span style="font-size: 9pt\; font-family: Verdana\; mso-default-font-family: Verdana\; mso-ascii-font-family: Verdana\; mso-latin-font-family: Verdana\; mso-greek-font-family: Verdana\; mso-cyrillic-font-family: Verdana\; mso-latinext-font-family: Verdana\; language: EN\; mso-ansi-language: EN">&nbsp\;<o:p></o:p></span></p><p class="MsoNormal" style="mso-pagination: widow-orphan"><span style="font-weight: bold\; font-size: 9pt\; color: #4d4d4d\; font-family: Verdana\; mso-default-font-family: Verdana\; mso-ascii-font-family: Verdana\; mso-latin-font-family: Verdana\; mso-greek-font-family: Verdana\; mso-cyrillic-font-family: Verdana\; mso-latinext-font-family: Verdana\; language: EN\; mso-ansi-language: EN">Presenter: </span><span style="font-weight: bold\; font-family: Verdana\; mso-default-font-family: Verdana\; mso-ascii-font-family: Verdana\; mso-latin-font-family: Verdana\; mso-greek-font-family: Verdana\; mso-cyrillic-font-family: Verdana\; mso-latinext-font-family: Verdana\; language: EN\; mso-ansi-language: EN">L. Diane Wolfe</span><span style="font-size: 9pt\; font-family: Verdana\; mso-default-font-family: Verdana\; mso-ascii-font-family: Verdana\; mso-latin-font-family: Verdana\; mso-greek-font-family: Verdana\; mso-cyrillic-font-family: Verdana\; mso-latinext-font-family: Verdana\; language: EN\; mso-ansi-language: EN"><o:p></o:p></span></p><p class="MsoNormal" style="mso-pagination: widow-orphan"><span style="font-weight: bold\; font-size: 9pt\; color: #4d4d4d\; font-family: Verdana\; mso-default-font-family: Verdana\; mso-ascii-font-family: Verdana\; mso-latin-font-family: Verdana\; mso-greek-font-family: Verdana\; mso-cyrillic-font-family: Verdana\; mso-latinext-font-family: Verdana\; language: EN\; mso-ansi-language: EN">Section </span><span style="font-size: 9pt\; color: #4d4d4d\; font-family: Verdana\; mso-default-font-family: Verdana\; mso-ascii-font-family: Verdana\; mso-latin-font-family: Verdana\; mso-greek-font-family: Verdana\; mso-cyrillic-font-family: Verdana\; mso-latinext-font-family: Verdana\; language: EN\; mso-ansi-language: EN"># </span><span style="font-weight: bold\; color: black\; font-family: Verdana\; mso-default-font-family: Verdana\; mso-ascii-font-family: Verdana\; mso-latin-font-family: Verdana\; mso-greek-font-family: Verdana\; mso-cyrillic-font-family: Verdana\; mso-latinext-font-family: Verdana\; language: EN\; mso-ansi-language: EN\; mso-bidi-language: AR-SA">14431</span><span style="font-size: 12pt\; color: black\; font-family: &quot\;Times New Roman&quot\;\; mso-default-font-family: 'Times New Roman'\; language: EN\; mso-ansi-language: EN"> </span><span style="font-weight: bold\; color: black\; font-family: Verdana\; mso-default-font-family: Verdana\; mso-ascii-font-family: Verdana\; mso-latin-font-family: Verdana\; mso-greek-font-family: Verdana\; mso-cyrillic-font-family: Verdana\; mso-latinext-font-family: Verdana\; language: EN\; mso-ansi-language: EN\; mso-bidi-language: AR-SA">October 13</span><span style="font-size: 12pt\; color: black\; font-family: &quot\;Times New Roman&quot\;\; mso-default-font-family: 'Times New Roman'\; language: EN\; mso-ansi-language: EN"> </span><span style="font-weight: bold\; font-size: 9pt\; font-family: Verdana\; mso-default-font-family: Verdana\; mso-ascii-font-family: Verdana\; mso-latin-font-family: Verdana\; mso-greek-font-family: Verdana\; mso-cyrillic-font-family: Verdana\; mso-latinext-font-family: Verdana\; language: EN\; mso-ansi-language: EN"><o:p></o:p></span></p><p class="MsoNormal" style="mso-pagination: none"><span style="language: EN">&nbsp\;<o:p></o:p></span></p>&nbsp\;<p class="MsoNormal" style="mso-pagination: none"><span style="language: EN">&nbsp\;<o:p></o:p></span></p></div>
LOCATION:The Tuesday Night Seminars will be held in the rockingham community college Bishopric lifelong learning center (BLLC) Building Room 206
UID:e.111.1251
SEQUENCE:3
DTSTAMP:20260424T235316Z
URL:https://business.reidsvillechamber.org/events/details/rcc-small-business-seminar-how-to-promote-your-book-now-10-13-2009-1251
END:VEVENT

END:VCALENDAR
