BEGIN:VCALENDAR
VERSION:2.0
PRODID:-//ChamberMaster//Event Calendar 2.0//EN
METHOD:PUBLISH
X-PUBLISHED-TTL:P3D
REFRESH-INTERVAL:P3D
CALSCALE:GREGORIAN
BEGIN:VEVENT
DTSTART:20091027T220000Z
DTEND:20091028T003000Z
X-MICROSOFT-CDO-ALLDAYEVENT:FALSE
SUMMARY:RCC Small Business Seminar-Jump Start!-Get Your Business on the Web
DESCRIPTION:Jump Start!   Get Your Business on the Web So you haven't put your business on the Internet?  This seminar will show you how to establish yourself on the World Wide Web.  You will learn how to:  Get a domain name that establishes your brand  Find a place to host your website   Set up a real email address yourname@yourcompany.com)\,                       instead of bob12345@aol.com  Decide what kind of website you need  Work with a developer You will also learn about:  Simple brochure sites  Heavy content sites  Blog sites  Ecommerce sites  Combination sites  Search engine basics  Build it yourself options Throughout\, you'll get practical no nonsense advice taught by a web developer with over nine years experience building websites for small and medium sized businesses.Presenter: Bill Swanson Section # 14433    October 27
X-ALT-DESC;FMTTYPE=text/html:<div><div style="text-align: center"><p class="MsoNormal" style="mso-pagination: none"><span style="language: EN">&nbsp\;<span style="font-weight: bold\; color: black\; font-family: Verdana\; language: EN\; mso-default-font-family: Verdana\; mso-ascii-font-family: Verdana\; mso-latin-font-family: Verdana\; mso-greek-font-family: Verdana\; mso-cyrillic-font-family: Verdana\; mso-latinext-font-family: Verdana\; mso-ansi-language: EN\; mso-bidi-language: AR-SA">Jump Start! &ndash\; Get Your Business on the Web</span><span style="font-size: 12pt\; color: black\; font-family: 'Times New Roman'\; language: EN\; mso-default-font-family: &rsquo\;Times New Roman&rsquo\;\; mso-ansi-language: EN"> </span><span style="font-size: 12pt\; color: black\; font-family: 'Times New Roman'\; language: EN\; mso-default-font-family: &rsquo\;Times New Roman&rsquo\;\; mso-ascii-font-family: &rsquo\;Times New Roman&rsquo\;\; mso-ansi-language: EN"><o:p></o:p></span></span></p><p class="MsoNormal" style="mso-pagination: none"><span style="font-size: 9pt\; font-family: Verdana\; language: EN\; mso-default-font-family: Verdana\; mso-ascii-font-family: Verdana\; mso-latin-font-family: Verdana\; mso-greek-font-family: Verdana\; mso-cyrillic-font-family: Verdana\; mso-latinext-font-family: Verdana\; mso-ansi-language: EN">So you haven&rsquo\;t put your business on the Internet?<span style="mso-spacerun: yes">&nbsp\; </span>This seminar will show you how to establish yourself on the World Wide Web.<span style="mso-spacerun: yes">&nbsp\; </span><o:p></o:p></span></p><p class="MsoNormal" style="mso-pagination: none"><span style="font-size: 9pt\; font-family: Verdana\; language: EN\; mso-default-font-family: Verdana\; mso-ascii-font-family: Verdana\; mso-latin-font-family: Verdana\; mso-greek-font-family: Verdana\; mso-cyrillic-font-family: Verdana\; mso-latinext-font-family: Verdana\; mso-ansi-language: EN">You will learn how to:<o:p></o:p></span></p><p class="MsoNormal" style="text-indent: -18pt\; mso-pagination: none\; mso-level-number-format: bullet\; mso-level-text: &middot\;\; mso-level-size: 10.0pt\; mso-level-font-family: Symbol"><span style="font-size: 10pt\; color: black\; direction: ltr\; font-family: Symbol\; unicode-bidi: embed\; language: X-NONE">&middot\;</span><span style="width: 13.5pt">&nbsp\;</span><span style="font-size: 9pt\; font-family: Verdana\; language: EN\; mso-default-font-family: Verdana\; mso-ascii-font-family: Verdana\; mso-latin-font-family: Verdana\; mso-greek-font-family: Verdana\; mso-cyrillic-font-family: Verdana\; mso-latinext-font-family: Verdana\; mso-ansi-language: EN">Get a domain name that establishes your brand</span><span style="font-size: 9pt\; font-family: 'Times New Roman'\; language: EN\; mso-default-font-family: &rsquo\;Times New Roman&rsquo\;\; mso-ascii-font-family: &rsquo\;Times New Roman&rsquo\;\; mso-latin-font-family: &rsquo\;Times New Roman&rsquo\;\; mso-greek-font-family: &rsquo\;Times New Roman&rsquo\;\; mso-cyrillic-font-family: &rsquo\;Times New Roman&rsquo\;"><o:p></o:p></span></p><p class="MsoNormal" style="text-indent: -18pt\; mso-pagination: none\; mso-level-number-format: bullet\; mso-level-text: &middot\;\; mso-level-size: 10.0pt\; mso-level-font-family: Symbol"><span style="font-size: 10pt\; color: black\; direction: ltr\; font-family: Symbol\; unicode-bidi: embed\; language: X-NONE">&middot\;</span><span style="width: 13.5pt">&nbsp\;</span><span style="font-size: 9pt\; font-family: Verdana\; language: EN\; mso-default-font-family: Verdana\; mso-ascii-font-family: Verdana\; mso-latin-font-family: Verdana\; mso-greek-font-family: Verdana\; mso-cyrillic-font-family: Verdana\; mso-latinext-font-family: Verdana\; mso-ansi-language: EN">Find a place to host your website</span><span style="font-size: 9pt\; font-family: 'Times New Roman'\; language: EN\; mso-default-font-family: &rsquo\;Times New Roman&rsquo\;\; mso-ascii-font-family: &rsquo\;Times New Roman&rsquo\;\; mso-latin-font-family: &rsquo\;Times New Roman&rsquo\;\; mso-greek-font-family: &rsquo\;Times New Roman&rsquo\;\; mso-cyrillic-font-family: &rsquo\;Times New Roman&rsquo\;"><o:p></o:p></span></p><ul><li><span style="font-size: 9pt\; font-family: Verdana\; language: EN\; mso-default-font-family: Verdana\; mso-ascii-font-family: Verdana\; mso-latin-font-family: Verdana\; mso-greek-font-family: Verdana\; mso-cyrillic-font-family: Verdana\; mso-latinext-font-family: Verdana\; mso-ansi-language: EN">&nbsp\;&nbsp\; Set up a real email address <a href="mailto:yourname@yourcompany.com">yourname@yourcompany.com</a>)\,</span>&nbsp\;&nbsp\;&nbsp\;&nbsp\;&nbsp\;&nbsp\; &nbsp\;&nbsp\;&nbsp\;&nbsp\;&nbsp\;&nbsp\;&nbsp\;&nbsp\;&nbsp\;&nbsp\;&nbsp\;&nbsp\;&nbsp\;&nbsp\;&nbsp\; <span style="font-size: 9pt\; font-family: Verdana\; language: EN\; mso-default-font-family: Verdana\; mso-ascii-font-family: Verdana\; mso-latin-font-family: Verdana\; mso-greek-font-family: Verdana\; mso-cyrillic-font-family: Verdana\; mso-latinext-font-family: Verdana\; mso-ansi-language: EN">instead of bob12345@aol.com</span><span style="font-size: 9pt\; font-family: 'Times New Roman'\; language: EN\; mso-default-font-family: &rsquo\;Times New Roman&rsquo\;\; mso-ascii-font-family: &rsquo\;Times New Roman&rsquo\;\; mso-latin-font-family: &rsquo\;Times New Roman&rsquo\;\; mso-greek-font-family: &rsquo\;Times New Roman&rsquo\;\; mso-cyrillic-font-family: &rsquo\;Times New Roman&rsquo\;"><o:p></o:p></span></li></ul><p class="MsoNormal" style="mso-pagination: none\; mso-level-number-format: bullet\; mso-level-text: &middot\;\; mso-level-size: 10.0pt\; mso-level-font-family: Symbol"><span style="font-size: 10pt\; color: black\; direction: ltr\; font-family: Symbol\; unicode-bidi: embed\; language: X-NONE">&middot\;</span><span style="width: 13.5pt">&nbsp\;</span><span style="font-size: 9pt\; font-family: Verdana\; language: EN\; mso-default-font-family: Verdana\; mso-ascii-font-family: Verdana\; mso-latin-font-family: Verdana\; mso-greek-font-family: Verdana\; mso-cyrillic-font-family: Verdana\; mso-latinext-font-family: Verdana\; mso-ansi-language: EN">Decide what kind of website you need</span><span style="font-size: 12pt\; font-family: 'Times New Roman'\; language: EN\; mso-default-font-family: &rsquo\;Times New Roman&rsquo\;\; mso-ascii-font-family: &rsquo\;Times New Roman&rsquo\;\; mso-latin-font-family: &rsquo\;Times New Roman&rsquo\;\; mso-greek-font-family: &rsquo\;Times New Roman&rsquo\;\; mso-cyrillic-font-family: &rsquo\;Times New Roman&rsquo\;"><o:p></o:p></span></p><p class="MsoNormal" style="mso-pagination: none\; mso-level-number-format: bullet\; mso-level-text: &middot\;\; mso-level-size: 10.0pt\; mso-level-font-family: Symbol"><span style="font-size: 10pt\; color: black\; direction: ltr\; font-family: Symbol\; unicode-bidi: embed\; language: X-NONE">&middot\;</span><span style="width: 13.5pt">&nbsp\;</span><span style="font-family: Verdana\; language: EN\; mso-default-font-family: Verdana\; mso-ascii-font-family: Verdana\; mso-latin-font-family: Verdana\; mso-greek-font-family: Verdana\; mso-cyrillic-font-family: Verdana\; mso-latinext-font-family: Verdana\; mso-ansi-language: EN">Work with a developer</span><span style="font-size: 12pt\; font-family: 'Times New Roman'\; language: EN\; mso-default-font-family: &rsquo\;Times New Roman&rsquo\;\; mso-ascii-font-family: &rsquo\;Times New Roman&rsquo\;\; mso-latin-font-family: &rsquo\;Times New Roman&rsquo\;\; mso-greek-font-family: &rsquo\;Times New Roman&rsquo\;\; mso-cyrillic-font-family: &rsquo\;Times New Roman&rsquo\;"><o:p></o:p></span></p><p class="MsoNormal" style="margin-left: -18pt\; mso-pagination: none"><span style="font-size: 9pt\; font-family: 'Times New Roman'\; language: EN\; mso-default-font-family: &rsquo\;Times New Roman&rsquo\;\; mso-ascii-font-family: &rsquo\;Times New Roman&rsquo\;\; mso-latin-font-family: &rsquo\;Times New Roman&rsquo\;\; mso-greek-font-family: &rsquo\;Times New Roman&rsquo\;\; mso-cyrillic-font-family: &rsquo\;Times New Roman&rsquo\;">&nbsp\;</span><span style="font-size: 9pt\; font-family: Verdana\; language: EN\; mso-default-font-family: Verdana\; mso-ascii-font-family: Verdana\; mso-latin-font-family: Verdana\; mso-greek-font-family: Verdana\; mso-cyrillic-font-family: Verdana\; mso-latinext-font-family: Verdana\; mso-ansi-language: EN">You will also learn about:</span><span style="font-size: 9pt\; font-family: 'Times New Roman'\; language: EN\; mso-default-font-family: &rsquo\;Times New Roman&rsquo\;\; mso-ascii-font-family: &rsquo\;Times New Roman&rsquo\;\; mso-latin-font-family: &rsquo\;Times New Roman&rsquo\;\; mso-greek-font-family: &rsquo\;Times New Roman&rsquo\;\; mso-cyrillic-font-family: &rsquo\;Times New Roman&rsquo\;"><o:p></o:p></span></p><p class="MsoNormal" style="text-indent: -18pt\; mso-pagination: none\; mso-level-number-format: bullet\; mso-level-text: &middot\;\; mso-level-size: 10.0pt\; mso-level-font-family: Symbol"><span style="font-size: 10pt\; color: black\; direction: ltr\; font-family: Symbol\; unicode-bidi: embed\; language: X-NONE">&middot\;</span><span style="width: 13.5pt">&nbsp\;</span><span style="font-size: 9pt\; font-family: Verdana\; language: EN\; mso-default-font-family: Verdana\; mso-ascii-font-family: Verdana\; mso-latin-font-family: Verdana\; mso-greek-font-family: Verdana\; mso-cyrillic-font-family: Verdana\; mso-latinext-font-family: Verdana\; mso-ansi-language: EN">Simple brochure sites</span><span style="font-size: 9pt\; font-family: 'Times New Roman'\; language: EN\; mso-default-font-family: &rsquo\;Times New Roman&rsquo\;\; mso-ascii-font-family: &rsquo\;Times New Roman&rsquo\;\; mso-latin-font-family: &rsquo\;Times New Roman&rsquo\;\; mso-greek-font-family: &rsquo\;Times New Roman&rsquo\;\; mso-cyrillic-font-family: &rsquo\;Times New Roman&rsquo\;"><o:p></o:p></span></p><p class="MsoNormal" style="text-indent: -18pt\; mso-pagination: none\; mso-level-number-format: bullet\; mso-level-text: &middot\;\; mso-level-size: 10.0pt\; mso-level-font-family: Symbol"><span style="font-size: 10pt\; color: black\; direction: ltr\; font-family: Symbol\; unicode-bidi: embed\; language: X-NONE">&middot\;</span><span style="width: 13.5pt">&nbsp\;</span><span style="font-size: 9pt\; font-family: Verdana\; language: EN\; mso-default-font-family: Verdana\; mso-ascii-font-family: Verdana\; mso-latin-font-family: Verdana\; mso-greek-font-family: Verdana\; mso-cyrillic-font-family: Verdana\; mso-latinext-font-family: Verdana\; mso-ansi-language: EN">Heavy content sites</span><span style="font-size: 9pt\; font-family: 'Times New Roman'\; language: EN\; mso-default-font-family: &rsquo\;Times New Roman&rsquo\;\; mso-ascii-font-family: &rsquo\;Times New Roman&rsquo\;\; mso-latin-font-family: &rsquo\;Times New Roman&rsquo\;\; mso-greek-font-family: &rsquo\;Times New Roman&rsquo\;\; mso-cyrillic-font-family: &rsquo\;Times New Roman&rsquo\;"><o:p></o:p></span></p><p class="MsoNormal" style="text-indent: -18pt\; mso-pagination: none\; mso-level-number-format: bullet\; mso-level-text: &middot\;\; mso-level-size: 10.0pt\; mso-level-font-family: Symbol"><span style="font-size: 10pt\; color: black\; direction: ltr\; font-family: Symbol\; unicode-bidi: embed\; language: X-NONE">&middot\;</span><span style="width: 13.5pt">&nbsp\;</span><span style="font-size: 9pt\; font-family: Verdana\; language: EN\; mso-default-font-family: Verdana\; mso-ascii-font-family: Verdana\; mso-latin-font-family: Verdana\; mso-greek-font-family: Verdana\; mso-cyrillic-font-family: Verdana\; mso-latinext-font-family: Verdana\; mso-ansi-language: EN">Blog sites</span><span style="font-size: 9pt\; font-family: 'Times New Roman'\; language: EN\; mso-default-font-family: &rsquo\;Times New Roman&rsquo\;\; mso-ascii-font-family: &rsquo\;Times New Roman&rsquo\;\; mso-latin-font-family: &rsquo\;Times New Roman&rsquo\;\; mso-greek-font-family: &rsquo\;Times New Roman&rsquo\;\; mso-cyrillic-font-family: &rsquo\;Times New Roman&rsquo\;"><o:p></o:p></span></p><p class="MsoNormal" style="text-indent: -18pt\; mso-pagination: none\; mso-level-number-format: bullet\; mso-level-text: &middot\;\; mso-level-size: 10.0pt\; mso-level-font-family: Symbol"><span style="font-size: 10pt\; color: black\; direction: ltr\; font-family: Symbol\; unicode-bidi: embed\; language: X-NONE">&middot\;</span><span style="width: 13.5pt">&nbsp\;</span><span style="font-size: 9pt\; font-family: Verdana\; language: EN\; mso-default-font-family: Verdana\; mso-ascii-font-family: Verdana\; mso-latin-font-family: Verdana\; mso-greek-font-family: Verdana\; mso-cyrillic-font-family: Verdana\; mso-latinext-font-family: Verdana\; mso-ansi-language: EN">Ecommerce sites</span><span style="font-size: 9pt\; font-family: 'Times New Roman'\; language: EN\; mso-default-font-family: &rsquo\;Times New Roman&rsquo\;\; mso-ascii-font-family: &rsquo\;Times New Roman&rsquo\;\; mso-latin-font-family: &rsquo\;Times New Roman&rsquo\;\; mso-greek-font-family: &rsquo\;Times New Roman&rsquo\;\; mso-cyrillic-font-family: &rsquo\;Times New Roman&rsquo\;"><o:p></o:p></span></p><p class="MsoNormal" style="text-indent: -18pt\; mso-pagination: none\; mso-level-number-format: bullet\; mso-level-text: &middot\;\; mso-level-size: 10.0pt\; mso-level-font-family: Symbol"><span style="font-size: 10pt\; color: black\; direction: ltr\; font-family: Symbol\; unicode-bidi: embed\; language: X-NONE">&middot\;</span><span style="width: 13.5pt">&nbsp\;</span><span style="font-size: 9pt\; font-family: Verdana\; language: EN\; mso-default-font-family: Verdana\; mso-ascii-font-family: Verdana\; mso-latin-font-family: Verdana\; mso-greek-font-family: Verdana\; mso-cyrillic-font-family: Verdana\; mso-latinext-font-family: Verdana\; mso-ansi-language: EN">Combination sites</span><span style="font-size: 9pt\; font-family: 'Times New Roman'\; language: EN\; mso-default-font-family: &rsquo\;Times New Roman&rsquo\;\; mso-ascii-font-family: &rsquo\;Times New Roman&rsquo\;\; mso-latin-font-family: &rsquo\;Times New Roman&rsquo\;\; mso-greek-font-family: &rsquo\;Times New Roman&rsquo\;\; mso-cyrillic-font-family: &rsquo\;Times New Roman&rsquo\;"><o:p></o:p></span></p><p class="MsoNormal" style="text-indent: -18pt\; mso-pagination: none\; mso-level-number-format: bullet\; mso-level-text: &middot\;\; mso-level-size: 10.0pt\; mso-level-font-family: Symbol"><span style="font-size: 10pt\; color: black\; direction: ltr\; font-family: Symbol\; unicode-bidi: embed\; language: X-NONE">&middot\;</span><span style="width: 13.5pt">&nbsp\;</span><span style="font-size: 9pt\; font-family: Verdana\; language: EN\; mso-default-font-family: Verdana\; mso-ascii-font-family: Verdana\; mso-latin-font-family: Verdana\; mso-greek-font-family: Verdana\; mso-cyrillic-font-family: Verdana\; mso-latinext-font-family: Verdana\; mso-ansi-language: EN">Search engine basics</span><span style="font-size: 9pt\; font-family: 'Times New Roman'\; language: EN\; mso-default-font-family: &rsquo\;Times New Roman&rsquo\;\; mso-ascii-font-family: &rsquo\;Times New Roman&rsquo\;\; mso-latin-font-family: &rsquo\;Times New Roman&rsquo\;\; mso-greek-font-family: &rsquo\;Times New Roman&rsquo\;\; mso-cyrillic-font-family: &rsquo\;Times New Roman&rsquo\;"><o:p></o:p></span></p><p class="MsoNormal" style="text-indent: -18pt\; mso-pagination: none\; mso-level-number-format: bullet\; mso-level-text: &middot\;\; mso-level-size: 10.0pt\; mso-level-font-family: Symbol"><span style="font-size: 10pt\; color: black\; direction: ltr\; font-family: Symbol\; unicode-bidi: embed\; language: X-NONE">&middot\;</span><span style="width: 13.5pt">&nbsp\;</span><span style="font-size: 9pt\; font-family: Verdana\; language: EN\; mso-default-font-family: Verdana\; mso-ascii-font-family: Verdana\; mso-latin-font-family: Verdana\; mso-greek-font-family: Verdana\; mso-cyrillic-font-family: Verdana\; mso-latinext-font-family: Verdana\; mso-ansi-language: EN">Build it yourself options</span><span style="font-size: 9pt\; font-family: 'Times New Roman'\; language: EN\; mso-default-font-family: &rsquo\;Times New Roman&rsquo\;\; mso-ascii-font-family: &rsquo\;Times New Roman&rsquo\;\; mso-latin-font-family: &rsquo\;Times New Roman&rsquo\;\; mso-greek-font-family: &rsquo\;Times New Roman&rsquo\;\; mso-cyrillic-font-family: &rsquo\;Times New Roman&rsquo\;"><o:p></o:p></span></p><p class="MsoNormal" style="mso-pagination: none"><span style="font-family: Verdana\; language: EN\; mso-default-font-family: Verdana\; mso-ascii-font-family: Verdana\; mso-latin-font-family: Verdana\; mso-greek-font-family: Verdana\; mso-cyrillic-font-family: Verdana\; mso-latinext-font-family: Verdana\; mso-ansi-language: EN">&nbsp\;</span><span style="font-family: Verdana\; language: EN\; mso-default-font-family: Verdana\; mso-ascii-font-family: Verdana\; mso-latin-font-family: Verdana\; mso-greek-font-family: Verdana\; mso-cyrillic-font-family: Verdana\; mso-latinext-font-family: Verdana\; mso-ansi-language: EN">Throughout\, you&rsquo\;ll get practical no nonsense advice taught by a web developer with over nine years experience building websites for small and medium sized businesses.<o:p></o:p></span></p><p class="MsoNormal" style="mso-pagination: widow-orphan"><span style="font-weight: bold\; font-family: Verdana\; language: EN\; mso-default-font-family: Verdana\; mso-ascii-font-family: Verdana\; mso-latin-font-family: Verdana\; mso-greek-font-family: Verdana\; mso-cyrillic-font-family: Verdana\; mso-latinext-font-family: Verdana\; mso-ansi-language: EN"><o:p></o:p></span></p><p class="MsoNormal" style="mso-pagination: widow-orphan"><span style="font-weight: bold\; font-size: 9pt\; color: #4d4d4d\; font-family: Verdana\; language: EN\; mso-default-font-family: Verdana\; mso-ascii-font-family: Verdana\; mso-latin-font-family: Verdana\; mso-greek-font-family: Verdana\; mso-cyrillic-font-family: Verdana\; mso-latinext-font-family: Verdana\; mso-ansi-language: EN">Presenter: </span><span style="font-weight: bold\; color: black\; font-family: Verdana\; language: EN\; mso-default-font-family: Verdana\; mso-ascii-font-family: Verdana\; mso-latin-font-family: Verdana\; mso-greek-font-family: Verdana\; mso-cyrillic-font-family: Verdana\; mso-latinext-font-family: Verdana\; mso-ansi-language: EN\; mso-bidi-language: AR-SA">Bill Swanson</span><span style="font-size: 12pt\; color: black\; font-family: 'Times New Roman'\; language: EN\; mso-default-font-family: &rsquo\;Times New Roman&rsquo\;\; mso-ansi-language: EN"> </span><span style="font-weight: bold\; font-family: Verdana\; language: EN\; mso-default-font-family: Verdana\; mso-ascii-font-family: Verdana\; mso-latin-font-family: Verdana\; mso-greek-font-family: Verdana\; mso-cyrillic-font-family: Verdana\; mso-latinext-font-family: Verdana\; mso-ansi-language: EN"><o:p></o:p></span></p><p class="MsoNormal" style="mso-pagination: none"><span style="font-weight: bold\; font-size: 9pt\; color: #4d4d4d\; font-family: Verdana\; language: EN\; mso-default-font-family: Verdana\; mso-ascii-font-family: Verdana\; mso-latin-font-family: Verdana\; mso-greek-font-family: Verdana\; mso-cyrillic-font-family: Verdana\; mso-latinext-font-family: Verdana\; mso-ansi-language: EN">Section </span><span style="font-size: 9pt\; color: #4d4d4d\; font-family: Verdana\; language: EN\; mso-default-font-family: Verdana\; mso-ascii-font-family: Verdana\; mso-latin-font-family: Verdana\; mso-greek-font-family: Verdana\; mso-cyrillic-font-family: Verdana\; mso-latinext-font-family: Verdana\; mso-ansi-language: EN"># </span><span style="font-weight: bold\; color: black\; font-family: Verdana\; language: EN\; mso-default-font-family: Verdana\; mso-ascii-font-family: Verdana\; mso-latin-font-family: Verdana\; mso-greek-font-family: Verdana\; mso-cyrillic-font-family: Verdana\; mso-latinext-font-family: Verdana\; mso-ansi-language: EN\; mso-bidi-language: AR-SA">14433</span><span style="font-size: 12pt\; color: black\; font-family: 'Times New Roman'\; language: EN\; mso-default-font-family: &rsquo\;Times New Roman&rsquo\;\; mso-ansi-language: EN"><span style="mso-spacerun: yes">&nbsp\; </span></span><span style="font-weight: bold\; font-size: 9pt\; color: black\; font-family: 'Times New Roman'\; language: EN\; mso-default-font-family: &rsquo\;Times New Roman&rsquo\;\; mso-ansi-language: EN"><span style="mso-spacerun: yes">&nbsp\;</span></span><span style="font-size: 9pt\; color: #4d4d4d\; font-family: Verdana\; language: EN\; mso-default-font-family: Verdana\; mso-ascii-font-family: Verdana\; mso-latin-font-family: Verdana\; mso-greek-font-family: Verdana\; mso-cyrillic-font-family: Verdana\; mso-latinext-font-family: Verdana\; mso-ansi-language: EN"><span style="mso-tab-count: 1"> </span></span><span style="font-weight: bold\; color: black\; font-family: Verdana\; language: EN\; mso-default-font-family: Verdana\; mso-ascii-font-family: Verdana\; mso-latin-font-family: Verdana\; mso-greek-font-family: Verdana\; mso-cyrillic-font-family: Verdana\; mso-latinext-font-family: Verdana\; mso-ansi-language: EN\; mso-bidi-language: AR-SA">October 27</span><span style="font-size: 12pt\; color: black\; font-family: 'Times New Roman'\; language: EN\; mso-default-font-family: &rsquo\;Times New Roman&rsquo\;\; mso-ansi-language: EN"> </span><span style="font-weight: bold\; font-size: 9pt\; font-family: Verdana\; language: EN\; mso-default-font-family: Verdana\; mso-ascii-font-family: Verdana\; mso-latin-font-family: Verdana\; mso-greek-font-family: Verdana\; mso-cyrillic-font-family: Verdana\; mso-latinext-font-family: Verdana\; mso-ansi-language: EN"><o:p></o:p></span></p><p class="MsoNormal" style="mso-pagination: none"><span style="language: EN">&nbsp\;<o:p></o:p></span></p><p class="MsoNormal" style="mso-pagination: none">&nbsp\;<o:p></o:p></p>&nbsp\;&nbsp\;<span style="language: EN">&nbsp\;<o:p></o:p></span></div><p class="MsoNormal" style="mso-pagination: none"><span style="language: EN">&nbsp\;<o:p></o:p></span></p></div>
LOCATION:rockingham community college Bishopric lifelong learning center (BLLC) Room 206
UID:e.111.1252
SEQUENCE:3
DTSTAMP:20260424T233049Z
URL:https://business.reidsvillechamber.org/events/details/rcc-small-business-seminar-jump-start-get-your-business-on-the-web-10-27-2009-1252
END:VEVENT

END:VCALENDAR
