BEGIN:VCALENDAR
VERSION:2.0
PRODID:-//ChamberMaster//Event Calendar 2.0//EN
METHOD:PUBLISH
X-PUBLISHED-TTL:P3D
REFRESH-INTERVAL:P3D
CALSCALE:GREGORIAN
BEGIN:VEVENT
DTSTART:20091022T220000Z
DTEND:20091023T003000Z
X-MICROSOFT-CDO-ALLDAYEVENT:FALSE
SUMMARY:RCC Small Business Seminar-''Mass mailings Made Easy''
DESCRIPTION:"Mass Mailings Made Easy"If you have ever wanted to send out a mailer to all your customers\, then this seminar is for you.  Learn how to personalize one letter for each of your thousands of customers.  With a few key strokes that letter can be sent over and over again.  Let the computer do the work while you reap the rewards. Presenter: Ron ShafferSection # 14942   October 22
X-ALT-DESC;FMTTYPE=text/html:<div><div style="text-align: center">&nbsp\;<p class="MsoNormal" style="text-align: center\; mso-pagination: widow-orphan"><span style="font-weight: bold\; font-family: Verdana\; mso-default-font-family: Verdana\; mso-ascii-font-family: Verdana\; mso-latin-font-family: Verdana\; mso-greek-font-family: Verdana\; mso-cyrillic-font-family: Verdana\; mso-latinext-font-family: Verdana\; language: EN\; mso-ansi-language: EN">&ldquo\;Mass Mailings Made Easy&rdquo\;<o:p></o:p></span></p><p class="MsoNormal" style="mso-pagination: widow-orphan"><span style="font-size: 9pt\; font-family: Verdana\; mso-default-font-family: Verdana\; mso-ascii-font-family: Verdana\; mso-latin-font-family: Verdana\; mso-greek-font-family: Verdana\; mso-cyrillic-font-family: Verdana\; mso-latinext-font-family: Verdana\; language: EN\; mso-ansi-language: EN">If you have ever wanted to send out a mailer to all your customers\, then this seminar is for you.<span style="mso-spacerun: yes">&nbsp\; </span><o:p></o:p></span></p><p class="MsoNormal" style="mso-pagination: widow-orphan"><span style="font-size: 9pt\; font-family: Verdana\; mso-default-font-family: Verdana\; mso-ascii-font-family: Verdana\; mso-latin-font-family: Verdana\; mso-greek-font-family: Verdana\; mso-cyrillic-font-family: Verdana\; mso-latinext-font-family: Verdana\; language: EN\; mso-ansi-language: EN"><o:p></o:p></span></p><p class="MsoNormal" style="mso-pagination: widow-orphan"><span style="font-size: 9pt\; font-family: Verdana\; mso-default-font-family: Verdana\; mso-ascii-font-family: Verdana\; mso-latin-font-family: Verdana\; mso-greek-font-family: Verdana\; mso-cyrillic-font-family: Verdana\; mso-latinext-font-family: Verdana\; language: EN\; mso-ansi-language: EN">Learn how to personalize one letter for each of your thousands of customers.<span style="mso-spacerun: yes">&nbsp\; </span>With a few key strokes that letter can be sent over and over again.<span style="mso-spacerun: yes">&nbsp\; </span>Let the computer do the work while you reap the rewards.<o:p></o:p></span></p><p class="MsoNormal" style="mso-pagination: widow-orphan"><span style="font-weight: bold\; font-family: Verdana\; mso-default-font-family: Verdana\; mso-ascii-font-family: Verdana\; mso-latin-font-family: Verdana\; mso-greek-font-family: Verdana\; mso-cyrillic-font-family: Verdana\; mso-latinext-font-family: Verdana\; language: EN\; mso-ansi-language: EN">&nbsp\;<o:p></o:p></span></p><p class="MsoNormal" style="mso-pagination: widow-orphan"><span style="font-weight: bold\; font-size: 9pt\; color: #4d4d4d\; font-family: Verdana\; mso-default-font-family: Verdana\; mso-ascii-font-family: Verdana\; mso-latin-font-family: Verdana\; mso-greek-font-family: Verdana\; mso-cyrillic-font-family: Verdana\; mso-latinext-font-family: Verdana\; language: EN\; mso-ansi-language: EN">Presenter: </span><span style="font-weight: bold\; font-family: Verdana\; mso-default-font-family: Verdana\; mso-ascii-font-family: Verdana\; mso-latin-font-family: Verdana\; mso-greek-font-family: Verdana\; mso-cyrillic-font-family: Verdana\; mso-latinext-font-family: Verdana\; language: EN\; mso-ansi-language: EN">Ron Shaffer<o:p></o:p></span></p><p class="MsoNormal" style="mso-pagination: none"><span style="font-weight: bold\; font-size: 9pt\; color: #4d4d4d\; font-family: Verdana\; mso-default-font-family: Verdana\; mso-ascii-font-family: Verdana\; mso-latin-font-family: Verdana\; mso-greek-font-family: Verdana\; mso-cyrillic-font-family: Verdana\; mso-latinext-font-family: Verdana\; language: EN\; mso-ansi-language: EN">Section </span><span style="font-size: 9pt\; color: #4d4d4d\; font-family: Verdana\; mso-default-font-family: Verdana\; mso-ascii-font-family: Verdana\; mso-latin-font-family: Verdana\; mso-greek-font-family: Verdana\; mso-cyrillic-font-family: Verdana\; mso-latinext-font-family: Verdana\; language: EN\; mso-ansi-language: EN"># </span><span style="font-weight: bold\; color: black\; font-family: Verdana\; mso-default-font-family: Verdana\; mso-ascii-font-family: Verdana\; mso-latin-font-family: Verdana\; mso-greek-font-family: Verdana\; mso-cyrillic-font-family: Verdana\; mso-latinext-font-family: Verdana\; language: EN\; mso-ansi-language: EN\; mso-bidi-language: AR-SA">14942</span><span style="font-size: 12pt\; color: black\; font-family: &quot\;Times New Roman&quot\;\; mso-default-font-family: 'Times New Roman'\; language: EN\; mso-ansi-language: EN"> </span><span style="font-weight: bold\; font-size: 9pt\; color: black\; font-family: &quot\;Times New Roman&quot\;\; mso-default-font-family: 'Times New Roman'\; language: EN\; mso-ansi-language: EN"><span style="mso-spacerun: yes">&nbsp\;</span></span><span style="font-size: 9pt\; color: #4d4d4d\; font-family: Verdana\; mso-default-font-family: Verdana\; mso-ascii-font-family: Verdana\; mso-latin-font-family: Verdana\; mso-greek-font-family: Verdana\; mso-cyrillic-font-family: Verdana\; mso-latinext-font-family: Verdana\; language: EN\; mso-ansi-language: EN"><span style="mso-tab-count: 1"> </span></span><span style="font-weight: bold\; color: black\; font-family: Verdana\; mso-default-font-family: Verdana\; mso-ascii-font-family: Verdana\; mso-latin-font-family: Verdana\; mso-greek-font-family: Verdana\; mso-cyrillic-font-family: Verdana\; mso-latinext-font-family: Verdana\; language: EN\; mso-ansi-language: EN\; mso-bidi-language: AR-SA">October 22</span><span style="font-size: 12pt\; color: black\; font-family: &quot\;Times New Roman&quot\;\; mso-default-font-family: 'Times New Roman'\; language: EN\; mso-ansi-language: EN"> </span><span style="font-weight: bold\; font-size: 9pt\; font-family: Verdana\; mso-default-font-family: Verdana\; mso-ascii-font-family: Verdana\; mso-latin-font-family: Verdana\; mso-greek-font-family: Verdana\; mso-cyrillic-font-family: Verdana\; mso-latinext-font-family: Verdana\; language: EN\; mso-ansi-language: EN"><o:p></o:p></span></p><p class="MsoNormal" style="mso-pagination: none"><span style="language: EN">&nbsp\;<o:p></o:p></span></p>&nbsp\;&nbsp\;<span style="language: EN">&nbsp\;<o:p></o:p></span></div><p class="MsoNormal" style="mso-pagination: none"><span style="language: EN">&nbsp\;<o:p></o:p></span></p></div>
LOCATION:The Tuesday Night Seminars will be held in the rockingham community college Bishopric lifelong learning center (BLLC) Building Room 206
UID:e.111.1253
SEQUENCE:3
DTSTAMP:20260424T232843Z
URL:https://business.reidsvillechamber.org/events/details/rcc-small-business-seminar-mass-mailings-made-easy-10-22-2009-1253
END:VEVENT

END:VCALENDAR
