BEGIN:VCALENDAR
VERSION:2.0
PRODID:-//ChamberMaster//Event Calendar 2.0//EN
METHOD:PUBLISH
X-PUBLISHED-TTL:P3D
REFRESH-INTERVAL:P3D
CALSCALE:GREGORIAN
BEGIN:VEVENT
DTSTART:20091020T220000Z
DTEND:20091021T003000Z
X-MICROSOFT-CDO-ALLDAYEVENT:FALSE
SUMMARY:RCC Small Business Seminar-''Ways to Deal with Difficult People''
DESCRIPTION:"Ways to Deal with Difficult People"During this interactive workshop you will learn how to handle anger-provoking    situations\, keep your self-esteem intact\, and handle your emotions.  You will practice a 3-step formula to help you stay in control and get what you want.  By learning to deal with "difficult" people\, you will decrease your frustration and sense of being overwhelmed. Presenter: Hayes RatledgeSection # 14432 October 20
X-ALT-DESC;FMTTYPE=text/html:<div><div style="text-align: center">&nbsp\; <span style="font-weight: bold\; font-family: Verdana\; mso-default-font-family: Verdana\; mso-ascii-font-family: Verdana\; mso-latin-font-family: Verdana\; mso-greek-font-family: Verdana\; mso-cyrillic-font-family: Verdana\; mso-latinext-font-family: Verdana\; language: EN\; mso-ansi-language: EN">&ldquo\;Ways to Deal with Difficult People&rdquo\;<o:p></o:p></span></div><p class="MsoNormal" style="mso-pagination: widow-orphan"><span style="font-family: Verdana\; mso-default-font-family: Verdana\; mso-ascii-font-family: Verdana\; mso-latin-font-family: Verdana\; mso-greek-font-family: Verdana\; mso-cyrillic-font-family: Verdana\; mso-latinext-font-family: Verdana\; language: EN\; mso-ansi-language: EN">During this interactive workshop you will learn how to handle anger-provoking<span style="mso-spacerun: yes">&nbsp\;&nbsp\;&nbsp\; </span>situations\, keep your self-esteem intact\, and handle your emotions.<span style="mso-spacerun: yes">&nbsp\; </span><o:p></o:p></span></p><p class="MsoNormal" style="mso-pagination: widow-orphan"><span style="font-family: Verdana\; mso-default-font-family: Verdana\; mso-ascii-font-family: Verdana\; mso-latin-font-family: Verdana\; mso-greek-font-family: Verdana\; mso-cyrillic-font-family: Verdana\; mso-latinext-font-family: Verdana\; language: EN\; mso-ansi-language: EN">You will practice a 3-step formula to help you stay in control and get what you want.<span style="mso-spacerun: yes">&nbsp\; </span>By learning to deal with &ldquo\;difficult&rdquo\; people\, you will decrease your frustration and sense of being overwhelmed.<o:p></o:p></span></p><p class="MsoNormal" style="mso-pagination: widow-orphan"><span style="font-family: Verdana\; mso-default-font-family: Verdana\; mso-ascii-font-family: Verdana\; mso-latin-font-family: Verdana\; mso-greek-font-family: Verdana\; mso-cyrillic-font-family: Verdana\; mso-latinext-font-family: Verdana\; language: EN\; mso-ansi-language: EN">&nbsp\;<o:p></o:p></span></p><p class="MsoNormal" style="mso-pagination: widow-orphan"><span style="font-weight: bold\; font-size: 9pt\; color: #4d4d4d\; font-family: Verdana\; mso-default-font-family: Verdana\; mso-ascii-font-family: Verdana\; mso-latin-font-family: Verdana\; mso-greek-font-family: Verdana\; mso-cyrillic-font-family: Verdana\; mso-latinext-font-family: Verdana\; language: EN\; mso-ansi-language: EN">Presenter: </span><span style="font-weight: bold\; font-family: Verdana\; mso-default-font-family: Verdana\; mso-ascii-font-family: Verdana\; mso-latin-font-family: Verdana\; mso-greek-font-family: Verdana\; mso-cyrillic-font-family: Verdana\; mso-latinext-font-family: Verdana\; language: EN\; mso-ansi-language: EN">Hayes Ratledge<o:p></o:p></span></p><p class="MsoNormal" style="mso-pagination: none"><span style="font-weight: bold\; font-size: 9pt\; color: #4d4d4d\; font-family: Verdana\; mso-default-font-family: Verdana\; mso-ascii-font-family: Verdana\; mso-latin-font-family: Verdana\; mso-greek-font-family: Verdana\; mso-cyrillic-font-family: Verdana\; mso-latinext-font-family: Verdana\; language: EN\; mso-ansi-language: EN">Section </span><span style="font-size: 9pt\; color: #4d4d4d\; font-family: Verdana\; mso-default-font-family: Verdana\; mso-ascii-font-family: Verdana\; mso-latin-font-family: Verdana\; mso-greek-font-family: Verdana\; mso-cyrillic-font-family: Verdana\; mso-latinext-font-family: Verdana\; language: EN\; mso-ansi-language: EN"># </span><span style="font-weight: bold\; color: black\; font-family: Verdana\; mso-default-font-family: Verdana\; mso-ascii-font-family: Verdana\; mso-latin-font-family: Verdana\; mso-greek-font-family: Verdana\; mso-cyrillic-font-family: Verdana\; mso-latinext-font-family: Verdana\; language: EN\; mso-ansi-language: EN\; mso-bidi-language: AR-SA">14432</span><span style="font-size: 12pt\; color: black\; font-family: &quot\;Times New Roman&quot\;\; mso-default-font-family: &rsquo\;Times New Roman&rsquo\;\; language: EN\; mso-ansi-language: EN"> </span><span style="font-weight: bold\; color: black\; font-family: Verdana\; mso-default-font-family: Verdana\; mso-ascii-font-family: Verdana\; mso-latin-font-family: Verdana\; mso-greek-font-family: Verdana\; mso-cyrillic-font-family: Verdana\; mso-latinext-font-family: Verdana\; language: EN\; mso-ansi-language: EN\; mso-bidi-language: AR-SA">October 20</span><span style="font-size: 12pt\; color: black\; font-family: &quot\;Times New Roman&quot\;\; mso-default-font-family: &rsquo\;Times New Roman&rsquo\;\; language: EN\; mso-ansi-language: EN"> </span><span style="font-weight: bold\; font-size: 9pt\; font-family: Verdana\; mso-default-font-family: Verdana\; mso-ascii-font-family: Verdana\; mso-latin-font-family: Verdana\; mso-greek-font-family: Verdana\; mso-cyrillic-font-family: Verdana\; mso-latinext-font-family: Verdana\; language: EN\; mso-ansi-language: EN"><o:p></o:p></span></p><p class="MsoNormal" style="mso-pagination: none"><span style="language: EN">&nbsp\;<o:p></o:p></span></p><p class="MsoNormal" style="mso-pagination: none"><span style="language: EN">&nbsp\;<o:p></o:p></span></p></div>
LOCATION:The Tuesday Night Seminars will be held in the rockingham community college Bishopric lifelong learning center (BLLC) Building Room 206
UID:e.111.1250
SEQUENCE:3
DTSTAMP:20260424T234139Z
URL:https://business.reidsvillechamber.org/events/details/rcc-small-business-seminar-ways-to-deal-with-difficult-people-10-20-2009-1250
END:VEVENT

END:VCALENDAR
