BEGIN:VCALENDAR
VERSION:2.0
PRODID:-//ChamberMaster//Event Calendar 2.0//EN
METHOD:PUBLISH
X-PUBLISHED-TTL:P3D
REFRESH-INTERVAL:P3D
CALSCALE:GREGORIAN
BEGIN:VEVENT
DTSTART:20150120T220000Z
DTEND:20150121T000000Z
X-MICROSOFT-CDO-ALLDAYEVENT:FALSE
SUMMARY:RCC Welcoming Reception For Dr. Mark O. Kinlaw
DESCRIPTION:Please Join RCC For A Reception Welcoming\n\nDr. Mark O. Kinlaw\n\nFifth President Of Rockingham Community College
X-ALT-DESC;FMTTYPE=text/html:<div style="text-align: center\;">Please Join RCC For A Reception Welcoming<br />\nDr. Mark O. Kinlaw<br />\n<em><em>Fifth President Of Rockingham Community College</em></em></div>\n
LOCATION:Whitcomb Student Center Rockingham Community College 484 County Home Road Wentworth\, NC 27375
UID:e.111.3032
SEQUENCE:3
DTSTAMP:20260422T125458Z
URL:https://business.reidsvillechamber.org/events/details/rcc-welcoming-reception-for-dr-mark-o-kinlaw-01-20-2015-3032
END:VEVENT

END:VCALENDAR
