BEGIN:VCALENDAR
VERSION:2.0
PRODID:-//ChamberMaster//Event Calendar 2.0//EN
METHOD:PUBLISH
X-PUBLISHED-TTL:P3D
REFRESH-INTERVAL:P3D
CALSCALE:GREGORIAN
BEGIN:VEVENT
DTSTART:20110506T220000Z
DTEND:20110507T010000Z
X-MICROSOFT-CDO-ALLDAYEVENT:FALSE
SUMMARY:RDC Presents "Girls Night Out"
DESCRIPTION:Click Here event flyer
X-ALT-DESC;FMTTYPE=text/html:<a href="http://cloud.chambermaster.com/userfiles/UserFiles/chambers/111/File/Girls\,%20Girls\,%20Girls%201.jpg"><br />\nClick Here event flyer</a>
LOCATION:
UID:e.111.1909
SEQUENCE:3
DTSTAMP:20260423T170255Z
URL:https://business.reidsvillechamber.org/events/details/rdc-presents-girls-night-out-05-06-2011-1909
END:VEVENT

END:VCALENDAR
