BEGIN:VCALENDAR
VERSION:2.0
PRODID:-//ChamberMaster//Event Calendar 2.0//EN
METHOD:PUBLISH
X-PUBLISHED-TTL:P3D
REFRESH-INTERVAL:P3D
CALSCALE:GREGORIAN
BEGIN:VEVENT
DTSTART:20110810T153000Z
DTEND:20110810T210000Z
X-MICROSOFT-CDO-ALLDAYEVENT:FALSE
SUMMARY:Red Cross Blood Drive
DESCRIPTION:Annie Penn Hospital will be conducting a Red Cross Blood Drive on Wednesday\, August 10\, from 11:30 am   5:00 pm. To register\, please call Terri Ratliff 951-4512\, or Charles Mullis at 951-4839
X-ALT-DESC;FMTTYPE=text/html:<span style="font-size: 11pt\; font-family: calibri\; mso-bidi-font-size: 10.0pt\; mso-fareast-font-family: 'times new roman'\; mso-bidi-font-family: 'times new roman'\; mso-ansi-language: en-us\; mso-fareast-language: en-us\; mso-bidi-language: ar-sa"><font color="#000000" face="Times New Roman">Annie Penn Hospital will be conducting a Red Cross Blood Drive on <b style="mso-bidi-font-weight: normal">Wednesday\, August 10\,</b> from 11:30 am &ndash\; 5:00 pm. To register\, please call Terri Ratliff 951-4512\, or Charles Mullis at 951-4839</font></span>
LOCATION:Annie Penn Hospital
UID:e.111.1963
SEQUENCE:3
DTSTAMP:20260423T120829Z
URL:https://business.reidsvillechamber.org/events/details/red-cross-blood-drive-08-10-2011-1963
END:VEVENT

END:VCALENDAR
