BEGIN:VCALENDAR
VERSION:2.0
PRODID:-//ChamberMaster//Event Calendar 2.0//EN
METHOD:PUBLISH
X-PUBLISHED-TTL:P3D
REFRESH-INTERVAL:P3D
CALSCALE:GREGORIAN
BEGIN:VEVENT
DTSTART:20111012T153000Z
DTEND:20111012T200000Z
X-MICROSOFT-CDO-ALLDAYEVENT:FALSE
SUMMARY:Red Cross Blood Drive
DESCRIPTION:Annie Penn Hospital will sponsor a blood drive on Wednesday\, October 12\, 2011\, 11:30 a.m.   4:00 p.m. in the Womankind Center on the hospital's fourth floor. For more information\, or to register\, please call 951-4682\, or 951-4867.
X-ALT-DESC;FMTTYPE=text/html:<span style="font-size: 11pt\; font-family: calibri\; mso-bidi-font-size: 10.0pt\; mso-fareast-font-family: 'times new roman'\; mso-bidi-font-family: 'courier new'\; mso-ansi-language: en-us\; mso-fareast-language: en-us\; mso-bidi-language: ar-sa"><font color="#000000" face="Times New Roman">Annie Penn Hospital will sponsor a blood drive on <b style="mso-bidi-font-weight: normal">Wednesday\, October 12\, 2011</b>\, 11:30 a.m. &ndash\; 4:00 p.m. in the Womankind Center on the hospital&rsquo\;s fourth floor. For more information\, or to register\, please call 951-4682\, or 951-4867.</font></span>
LOCATION:Annie Penn Hospital
UID:e.111.2035
SEQUENCE:3
DTSTAMP:20260423T084201Z
URL:https://business.reidsvillechamber.org/events/details/red-cross-blood-drive-10-12-2011-2035
END:VEVENT

END:VCALENDAR
