BEGIN:VCALENDAR
VERSION:2.0
PRODID:-//ChamberMaster//Event Calendar 2.0//EN
METHOD:PUBLISH
X-PUBLISHED-TTL:P3D
REFRESH-INTERVAL:P3D
CALSCALE:GREGORIAN
BEGIN:VEVENT
DTSTART:20101208T163000Z
DTEND:20101208T220000Z
X-MICROSOFT-CDO-ALLDAYEVENT:FALSE
SUMMARY:Red Cross Blood Drive at Annie Penn Hospital
DESCRIPTION:A blood drive will be held on Wednesday\, December 8\, 2010\, from 11:30-5:00 pm in the Womankind Center on the hospital's fourth floor. To register\, call the number below.  Pre-registration is required.
X-ALT-DESC;FMTTYPE=text/html:A blood drive will be held on Wednesday\,&nbsp\;December 8\, 2010\, from 11:30-5:00 pm in the Womankind Center on the hospital&#39\;s fourth floor. To register\, call the number below.&nbsp\; Pre-registration is required.
LOCATION:Annie Penn's Womankind Center on 4th Floor
UID:e.111.1355
SEQUENCE:3
DTSTAMP:20260424T004632Z
URL:https://business.reidsvillechamber.org/events/details/red-cross-blood-drive-at-annie-penn-hospital-12-08-2010-1355
END:VEVENT

END:VCALENDAR
