BEGIN:VCALENDAR
VERSION:2.0
PRODID:-//ChamberMaster//Event Calendar 2.0//EN
METHOD:PUBLISH
X-PUBLISHED-TTL:P3D
REFRESH-INTERVAL:P3D
CALSCALE:GREGORIAN
BEGIN:VEVENT
DTSTART:20110211T230000Z
DTEND:20110212T020000Z
X-MICROSOFT-CDO-ALLDAYEVENT:FALSE
SUMMARY:"Red Hot Valentine's Evening"
DESCRIPTION:Music by Veronica Jones and Larry Johnson\n\nSelection of Baskets for that Special Valentine\n\nSoup and Sandwich Special for the evening\n\nGift Certificates\, Baked Goods by Sue Barber\, Flowers by Cabin Crafts.  Shot for that Special Valentine
X-ALT-DESC;FMTTYPE=text/html:Music by Veronica Jones and Larry Johnson\n<br>Selection of Baskets for that Special Valentine\n<br>Soup and Sandwich Special for the evening\n<br>Gift Certificates\, Baked Goods by Sue Barber\, Flowers by Cabin Crafts.  Shot for that Special Valentine
LOCATION:WayCup Coffee
UID:e.111.1584
SEQUENCE:3
DTSTAMP:20260423T212938Z
URL:https://business.reidsvillechamber.org/events/details/red-hot-valentine-s-evening-02-11-2011-1584
END:VEVENT

END:VCALENDAR
