BEGIN:VCALENDAR
VERSION:2.0
PRODID:-//ChamberMaster//Event Calendar 2.0//EN
METHOD:PUBLISH
X-PUBLISHED-TTL:P3D
REFRESH-INTERVAL:P3D
CALSCALE:GREGORIAN
BEGIN:VEVENT
DTSTART:20100414T160000Z
DTEND:20100414T170000Z
X-MICROSOFT-CDO-ALLDAYEVENT:FALSE
SUMMARY:Rehab Trail grand opening at Avante
DESCRIPTION:Avante' of ReidsvilleGrand Opening of the new Rehab Trial with lunch to follow-FREEWednesday\, April 14thNoon543 Maple Avenue
X-ALT-DESC;FMTTYPE=text/html:<div style="text-align: center"><span style="font-size: large"><strong>Avante&rsquo\; of Reidsville</strong></span></div><div style="text-align: center"><span style="font-size: large"><strong>Grand Opening of the new Rehab Trial&nbsp\;with lunch to follow-FREE</strong></span></div><div style="text-align: center"><span style="font-size: large"><strong>Wednesday\, April 14th</strong></span></div><div style="text-align: center"><span style="font-size: large"><strong>Noon</strong></span></div><div style="text-align: center"><span style="font-size: large"><strong>543 Maple Avenue</strong></span></div>
LOCATION:
UID:e.111.1351
SEQUENCE:3
DTSTAMP:20260424T133759Z
URL:https://business.reidsvillechamber.org/events/details/rehab-trail-grand-opening-at-avante-04-14-2010-1351
END:VEVENT

END:VCALENDAR
