BEGIN:VCALENDAR
VERSION:2.0
PRODID:-//ChamberMaster//Event Calendar 2.0//EN
METHOD:PUBLISH
X-PUBLISHED-TTL:P3D
REFRESH-INTERVAL:P3D
CALSCALE:GREGORIAN
BEGIN:VEVENT
DTSTART:20111103T120000Z
DTEND:20111103T130000Z
X-MICROSOFT-CDO-ALLDAYEVENT:FALSE
SUMMARY:Reidsville Business Chamber Coffee
DESCRIPTION:Annie Penn Hospital will host the Reidsville Chamber of Commerce Coffee on Thursday\, November 3\, from 8:00 a.m. until 9:00 a.m. The coffee will be held on 4th floor in the Womankind Center. All current and prospective chamber members are invited to attend. Annie Penn Hospital Administrators and Department Managers will be introduced\, and a light breakfast will be served.
X-ALT-DESC;FMTTYPE=text/html:<span style="font-size: 12pt\; font-family: calibri\; mso-fareast-font-family: 'times new roman'\; mso-bidi-font-family: 'times new roman'\; mso-ansi-language: en-us\; mso-fareast-language: en-us\; mso-bidi-language: ar-sa"><font color="#000000" face="Times New Roman">Annie Penn Hospital will host the Reidsville Chamber of Commerce Coffee on <b>Thursday\, November 3\,</b> from 8:00 a.m. until 9:00 a.m. The coffee will be held on 4<sup>th</sup> floor in the Womankind Center. All current and prospective chamber members are invited to attend. Annie Penn Hospital Administrators and Department Managers will be introduced\, and a light breakfast will be served.</font></span>
LOCATION:Annie Penn Hospital
UID:e.111.2052
SEQUENCE:3
DTSTAMP:20260423T090150Z
URL:https://business.reidsvillechamber.org/events/details/reidsville-business-chamber-coffee-11-03-2011-2052
END:VEVENT

END:VCALENDAR
