BEGIN:VCALENDAR
VERSION:2.0
PRODID:-//ChamberMaster//Event Calendar 2.0//EN
METHOD:PUBLISH
X-PUBLISHED-TTL:P3D
REFRESH-INTERVAL:P3D
CALSCALE:GREGORIAN
BEGIN:VEVENT
DTSTART:20100120T170000Z
DTEND:20100120T183000Z
X-MICROSOFT-CDO-ALLDAYEVENT:FALSE
SUMMARY:Reidsville Chamber of Commerce Annual Awards Banquet
DESCRIPTION:Your are cordially invited to the Annual Chamber of Commerce Community Awards BanquetSponsored by Avante' of Reidsville Wednesday\, January 20\, 2010noonPennrose Park County Club RSVP to info@reidsvillechamber.orgorclick on the "EVENT REGISTRATION" tab
X-ALT-DESC;FMTTYPE=text/html:<div style="text-align: center"><span style="font-family: Tahoma"><span style="font-size: medium">Your are cordially invited to the </span></span></div><div style="text-align: center"><span style="font-family: Tahoma"><span style="font-size: medium">Annual Chamber of Commerce Community Awards Banquet</span></span></div><div style="text-align: center"><span style="font-family: Tahoma"><span style="font-size: medium">Sponsored by Avante' of Reidsville</span></span></div><div style="text-align: center">&nbsp\;</div><div style="text-align: center"><span style="font-family: Tahoma"><span style="font-size: medium">Wednesday\, January 20\, 2010</span></span></div><div style="text-align: center"><span style="font-family: Tahoma"><span style="font-size: medium">noon</span></span></div><div style="text-align: center"><span style="font-family: Tahoma"><span style="font-size: medium">Pennrose Park County Club</span></span></div><div style="text-align: center">&nbsp\;</div><div style="text-align: center"><span style="font-family: Tahoma"><span style="font-size: medium">RSVP to <a href="mailto:info@reidsvillechamber.org">info@reidsvillechamber.org</a></span></span></div><div style="text-align: center"><span style="font-family: Tahoma"><span style="font-size: medium">or</span></span></div><div style="text-align: center"><span style="font-family: Tahoma"><span style="font-size: medium">click on the &quot\;EVENT&nbsp\;REGISTRATION&quot\; tab</span></span></div><div style="text-align: center">&nbsp\;</div>
LOCATION:Pennrose Park County Club
UID:e.111.1281
SEQUENCE:3
DTSTAMP:20260424T202406Z
URL:https://business.reidsvillechamber.org/events/details/reidsville-chamber-of-commerce-annual-awards-banquet-01-20-2010-1281
END:VEVENT

END:VCALENDAR
