BEGIN:VCALENDAR
VERSION:2.0
PRODID:-//ChamberMaster//Event Calendar 2.0//EN
METHOD:PUBLISH
X-PUBLISHED-TTL:P3D
REFRESH-INTERVAL:P3D
CALSCALE:GREGORIAN
BEGIN:VEVENT
DTSTART:20111230T130000Z
DTEND:20120103T150000Z
X-MICROSOFT-CDO-ALLDAYEVENT:FALSE
SUMMARY:Reidsville Chamber of Commerce Closed for New Year's Holiday
DESCRIPTION:Our office will be closed Thursday\, December 29\, 2011 at 3:30 until\n\nTuesday\, January 3\, 2012 at 10 AM\n\n\n\nHave a Safe and Happy New Year!
X-ALT-DESC;FMTTYPE=text/html:Our office will be closed Thursday\, December 29\, 2011 at 3:30 until<br />\nTuesday\, January 3\, 2012 at 10 AM<br />\n<br />\nHave a Safe and Happy New Year!
LOCATION:
UID:e.111.2117
SEQUENCE:3
DTSTAMP:20260421T175741Z
URL:https://business.reidsvillechamber.org/events/details/reidsville-chamber-of-commerce-closed-for-new-year-s-holiday-12-30-2011-2117
END:VEVENT

END:VCALENDAR
