BEGIN:VCALENDAR
VERSION:2.0
PRODID:-//ChamberMaster//Event Calendar 2.0//EN
METHOD:PUBLISH
X-PUBLISHED-TTL:P3D
REFRESH-INTERVAL:P3D
CALSCALE:GREGORIAN
BEGIN:VEVENT
DTSTART:20101120T233000Z
DTEND:20101121T020000Z
X-MICROSOFT-CDO-ALLDAYEVENT:FALSE
SUMMARY:Reidsville Christmas Parade
DESCRIPTION:Please come out and enjoy\n\n	The 2010 Reidsville Christmas Parade\n\n	\n\n	Saturday\, November 20th\n\n	\n\n	The parade route will begin at 6:30 pm at Pennrose Mall and will finish at the Monument at the intersection of Scales St. and Morehead St. in Downtown Reidsville.
X-ALT-DESC;FMTTYPE=text/html:<p style="text-align: center\;">\n	<span style="font-size: 14px\;"><em>Please come out and enjoy</em></span><br />\n	<span style="font-family: comic sans ms\;"><span style="font-size: 20px\;"><strong>The 2010<span style="color: rgb(0\, 255\, 0)\;"> </span><span style="color: rgb(0\, 128\, 0)\;">Reidsville</span> <span style="color: rgb(255\, 0\, 0)\;">Christmas </span><span style="color: rgb(0\, 128\, 0)\;">Parade</span></strong></span></span><br />\n	<br />\n	<span style="font-size: 16px\;"><strong><span style="background-color: rgb(255\, 255\, 0)\;">Saturday\, November 20th</span></strong></span><br />\n	<br />\n	<em><strong>The parade route <span style="background-color: rgb(255\, 255\, 0)\;">will begin at 6:30 pm</span> at Pennrose Mall and will finish at the Monument at the intersection of Scales St. and Morehead St. in Downtown Reidsville.</strong></em></p>\n
LOCATION:
UID:e.111.1552
SEQUENCE:3
DTSTAMP:20260424T024816Z
URL:https://business.reidsvillechamber.org/events/details/reidsville-christmas-parade-11-20-2010-1552
END:VEVENT

END:VCALENDAR
