BEGIN:VCALENDAR
VERSION:2.0
PRODID:-//ChamberMaster//Event Calendar 2.0//EN
METHOD:PUBLISH
X-PUBLISHED-TTL:P3D
REFRESH-INTERVAL:P3D
CALSCALE:GREGORIAN
BEGIN:VEVENT
DTSTART;VALUE=DATE:20110702
DTEND;VALUE=DATE:20110703
TRANSP:TRANSPARENT
X-MICROSOFT-CDO-ALLDAYEVENT:TRUE
SUMMARY:Reidsville City Lake
DESCRIPTION:Independence Day Fireworks Celebration\n\n	July 2\, 2011\n\n	Lake Reidsville\n\n	12 noon-11 p.m.\n\n	 \n\n	Sponsored by \n\n	Reidsville Parks & Recreation Department\n\n	Waterworks Grocery\n\n	 \n\n	Live Entertainment begins at 1 p.m.\n\n	Total Silence 1 p.m.\n\n	The Swell 3:30-6 p.m.\n\n	The Embers 7 p.m.-10 p.m.   Fireworks to follow\n\n	The Embers are a well known Beach Music band from Raleigh\n\n	Also featured will be inflatables\, fun game activity area\, food\n\n	Gate entry fee: $5 per car\n\n	No coolers\, alcoholic beverages allowed
X-ALT-DESC;FMTTYPE=text/html:<p class="MsoNormal" style="margin: 0in 0in 0pt">\n	<span style="font-size: 20pt"><font color="#000000" face="Times New Roman">Independence Day Fireworks Celebration</font></span></p>\n<p class="MsoNormal" style="margin: 0in 0in 0pt">\n	<span style="font-size: 20pt"><font color="#000000" face="Times New Roman">July 2\, 2011</font></span></p>\n<p class="MsoNormal" style="margin: 0in 0in 0pt">\n	<span style="font-size: 20pt"><font color="#000000" face="Times New Roman">Lake Reidsville</font></span></p>\n<p class="MsoNormal" style="margin: 0in 0in 0pt">\n	<span style="font-size: 20pt"><font color="#000000" face="Times New Roman">12 noon-11 p.m.</font></span></p>\n<p class="MsoNormal" style="margin: 0in 0in 0pt">\n	<span style="font-size: 20pt"><font color="#000000" face="Times New Roman">&nbsp\;</font></span></p>\n<p class="MsoNormal" style="margin: 0in 0in 0pt">\n	<span style="font-size: 20pt"><font color="#000000" face="Times New Roman">Sponsored by </font></span></p>\n<p class="MsoNormal" style="margin: 0in 0in 0pt">\n	<span style="font-size: 20pt"><font color="#000000" face="Times New Roman">Reidsville Parks &amp\; Recreation Department</font></span></p>\n<p class="MsoNormal" style="margin: 0in 0in 0pt">\n	<span style="font-size: 20pt"><font color="#000000" face="Times New Roman">Waterworks Grocery</font></span></p>\n<p class="MsoNormal" style="margin: 0in 0in 0pt">\n	<span style="font-size: 20pt"><font color="#000000" face="Times New Roman">&nbsp\;</font></span></p>\n<p class="MsoNormal" style="margin: 0in 0in 0pt">\n	<span style="font-size: 20pt"><font color="#000000" face="Times New Roman">Live Entertainment begins at 1 p.m.</font></span></p>\n<p class="MsoNormal" style="margin: 0in 0in 0pt">\n	<span style="font-size: 20pt"><font color="#000000" face="Times New Roman">Total Silence 1 p.m.</font></span></p>\n<p class="MsoNormal" style="margin: 0in 0in 0pt">\n	<span style="font-size: 20pt"><font color="#000000" face="Times New Roman">The Swell 3:30-6 p.m.</font></span></p>\n<p class="MsoNormal" style="margin: 0in 0in 0pt">\n	<span style="font-size: 20pt"><font color="#000000" face="Times New Roman">The Embers 7 p.m.-10 p.m. &ndash\; Fireworks to follow</font></span></p>\n<p class="MsoNormal" style="margin: 0in 0in 0pt">\n	<span style="font-size: 20pt"><font color="#000000" face="Times New Roman">The Embers are a well known Beach Music band from Raleigh</font></span></p>\n<p class="MsoNormal" style="margin: 0in 0in 0pt">\n	<span style="font-size: 20pt"><font color="#000000" face="Times New Roman">Also featured will be inflatables\, fun game activity area\, food</font></span></p>\n<p class="MsoNormal" style="margin: 0in 0in 0pt">\n	<span style="font-size: 20pt"><font color="#000000" face="Times New Roman">Gate entry fee: $5 per car</font></span></p>\n<p class="MsoNormal" style="margin: 0in 0in 0pt">\n	<span style="font-size: 20pt"><font color="#000000" face="Times New Roman">No coolers\, alcoholic beverages allowed</font></span></p>\n
LOCATION:Reidsville City Lake
UID:e.111.1947
SEQUENCE:3
DTSTAMP:20260423T135644Z
URL:https://business.reidsvillechamber.org/events/details/reidsville-city-lake-07-02-2011-1947
END:VEVENT

END:VCALENDAR
