BEGIN:VCALENDAR
VERSION:2.0
PRODID:-//ChamberMaster//Event Calendar 2.0//EN
METHOD:PUBLISH
X-PUBLISHED-TTL:P3D
REFRESH-INTERVAL:P3D
CALSCALE:GREGORIAN
BEGIN:VEVENT
DTSTART:20101009T130000Z
DTEND:20101009T220000Z
X-MICROSOFT-CDO-ALLDAYEVENT:FALSE
SUMMARY:Reidsville Downtown Fall Festival
DESCRIPTION:Reidsville Downtown Fall Festival\n\n	Saturday\, October 9\, 2010\n\n	9:00 a.m. - 6:00 p.m.\n\n	\n\n	Don't miss the 19th Annual Reidsville Downtown Fall Festival!\n\n	Join in the fun with art\, antiques\, crafts\, pottery\, food\, fun\, children's games\, pony rides\, and the featured EZ Street Cruisers Car Club classic car show.\n\n	\n\n	Entertainment by\n\n	Doug Rorter & the Hungry Hash House Ramblers 9:15-11:00 am\n\n	Dale Smith-Ventriloquist & Story Time-11:00-12:00\n\n	The Part Time Party Tim Band - 12 noon-2:30 p.m.\n\n	Veronica & Company featuring "Velvet" 2:30-4:00 p.m.\n\n	Special feature:  Veronica's Secret Band 4:00-6:00 p.m.\n\n	\n\n	For information visit us online at www.downtownreidsvillenc.com\n\n	or call Terresia Scoble 336-247-2307
X-ALT-DESC;FMTTYPE=text/html:<p style="text-align: center">\n	<span style="font-family: comic sans ms"><strong><span style="font-size: 14px"><span style="font-size: 18px">Reidsville Downtown Fall Festival</span><br />\n	Saturday\, October 9\, 2010<br />\n	9:00 a.m. - 6:00 p.m.<br />\n	<br />\n	Don&#39\;t miss the 19th Annual Reidsville Downtown Fall Festival!<br />\n	Join in the fun with art\, antiques\, crafts\, pottery\, food\, fun\, children&#39\;s games\, pony rides\, and the featured EZ Street Cruisers Car Club classic car show.<br />\n	<br />\n	Entertainment by<br />\n	Doug Rorter &amp\; the Hungry Hash House Ramblers 9:15-11:00 am<br />\n	Dale Smith-Ventriloquist &amp\; Story Time-11:00-12:00<br />\n	The Part Time Party Tim Band - 12 noon-2:30 p.m.<br />\n	Veronica &amp\; Company featuring &quot\;Velvet&quot\; 2:30-4:00 p.m.<br />\n	<em>Special feature:&nbsp\; </em>Veronica&#39\;s Secret Band 4:00-6:00 p.m.<br />\n	<br />\n	For information visit us online at <a href="http://www.downtownreidsvillenc.com">www.downtownreidsvillenc.com</a><br />\n	or call Terresia Scoble 336-247-2307</span></strong></span><br />\n	&nbsp\;</p>\n
LOCATION:Downtown Reidsville Free shuttle service from Pennrose Mall
UID:e.111.1519
SEQUENCE:3
DTSTAMP:20260424T040200Z
URL:https://business.reidsvillechamber.org/events/details/reidsville-downtown-fall-festival-10-09-2010-1519
END:VEVENT

END:VCALENDAR
