BEGIN:VCALENDAR
VERSION:2.0
PRODID:-//ChamberMaster//Event Calendar 2.0//EN
METHOD:PUBLISH
X-PUBLISHED-TTL:P3D
REFRESH-INTERVAL:P3D
CALSCALE:GREGORIAN
BEGIN:VEVENT
DTSTART:20100910T220000Z
DTEND:20100911T010000Z
X-MICROSOFT-CDO-ALLDAYEVENT:FALSE
SUMMARY:Reidsville Florist Wine Tasting
DESCRIPTION:Reidsville Florist and Gifts invites you to join them onFriday\, September 10thduring Cruise-In from 6-9 pm Meet Paul Hooper of Hooper's BBQand enjoy flavorful sauces Shelton Winery will also be therewith a taste of their offerings
X-ALT-DESC;FMTTYPE=text/html:<div style="text-align: center"><span style="font-size: medium"><span style="font-family: Verdana"><em>Reidsville Florist and Gifts</em></span></span></div><div style="text-align: center">&nbsp\;</div><div style="text-align: center"><span style="font-size: medium"><span style="font-family: Verdana">invites you to join them on</span></span></div><div style="text-align: center"><span style="font-size: medium"><span style="font-family: Verdana">Friday\, September 10th</span></span></div><div style="text-align: center"><span style="font-size: medium"><span style="font-family: Verdana">during Cruise-In from 6-9 pm</span></span></div><div style="text-align: center">&nbsp\;</div><div style="text-align: center"><span style="font-size: medium"><span style="font-family: Verdana">Meet Paul Hooper of Hooper's BBQ</span></span></div><div style="text-align: center"><span style="font-size: medium"><span style="font-family: Verdana">and enjoy flavorful sauces</span></span></div><div style="text-align: center">&nbsp\;</div><div style="text-align: center"><span style="font-size: medium"><span style="font-family: Verdana">Shelton Winery will also be there</span></span></div><div style="text-align: center"><span style="font-size: medium"><span style="font-family: Verdana">with a taste of their offerings</span></span></div>
LOCATION:119 S. Scales StreetReidsville\, NC 27320
UID:e.111.1490
SEQUENCE:3
DTSTAMP:20260424T053326Z
URL:https://business.reidsvillechamber.org/events/details/reidsville-florist-wine-tasting-09-10-2010-1490
END:VEVENT

END:VCALENDAR
