BEGIN:VCALENDAR
VERSION:2.0
PRODID:-//ChamberMaster//Event Calendar 2.0//EN
METHOD:PUBLISH
X-PUBLISHED-TTL:P3D
REFRESH-INTERVAL:P3D
CALSCALE:GREGORIAN
BEGIN:VEVENT
DTSTART;VALUE=DATE:20091120
DTEND;VALUE=DATE:20091121
TRANSP:TRANSPARENT
X-MICROSOFT-CDO-ALLDAYEVENT:TRUE
SUMMARY:Reidsville Holiday Celebration
DESCRIPTION:Downtown Reidsville Holiday Open House\nStores Open 10:00 a.m. - until\nFriday & Saturday\, Nov. 16 & 17\n\nTree Lighting Ceremony\nFriday\, Nov. 16    7:00 p.m.    Settle St. Parking Lot\nSpecial Music\n\nSanta & Mrs. Claus\nFriday\, Nov. 16    7:30 p.m.   Mural Park\n\nComplimentary Horse & Carriage Rides\nFriday\, Nov. 16   7:30 p.m. - 9:00 p.m.    Settle St. Parking Lot\n\nChristmas Parade\nSaturday\, Nov. 17     6:30 p.m.
X-ALT-DESC;FMTTYPE=text/html:Downtown Reidsville Holiday Open House\nStores Open 10:00 a.m. - until\nFriday & Saturday\, Nov. 16 & 17\n\nTree Lighting Ceremony\nFriday\, Nov. 16    7:00 p.m.    Settle St. Parking Lot\nSpecial Music\n\nSanta & Mrs. Claus\nFriday\, Nov. 16    7:30 p.m.   Mural Park\n\nComplimentary Horse & Carriage Rides\nFriday\, Nov. 16   7:30 p.m. - 9:00 p.m.    Settle St. Parking Lot\n\nChristmas Parade\nSaturday\, Nov. 17     6:30 p.m.
LOCATION:Downtown Reidsville
UID:e.111.1272
SEQUENCE:3
DTSTAMP:20260424T234957Z
URL:https://business.reidsvillechamber.org/events/details/reidsville-holiday-celebration-11-20-2009-1272
END:VEVENT

END:VCALENDAR
