BEGIN:VCALENDAR
VERSION:2.0
PRODID:-//ChamberMaster//Event Calendar 2.0//EN
METHOD:PUBLISH
X-PUBLISHED-TTL:P3D
REFRESH-INTERVAL:P3D
CALSCALE:GREGORIAN
BEGIN:VEVENT
DTSTART;VALUE=DATE:20141010
DTEND;VALUE=DATE:20141012
TRANSP:TRANSPARENT
X-MICROSOFT-CDO-ALLDAYEVENT:TRUE
SUMMARY:Reidsville Homegrown Festival
DESCRIPTION:Musical entertainment kicks off\n\nReidsville Festival October 10-11\n\n \n\nThe City of Reidsville\, Reidsville Downtown Corporation and Downtown Merchants invite you to attend the 23rd Annual Reidsville Downtown Homegrown Festival.\n\n \n\nReidsville is nestled in the heart of Rockingham County\, known as North Carolina's "North Star." Reidsville's motto is "Live Simply. Think Big."  And this festival is no exception. \n\nThis is the 23rd year for the festival\, and each year it just gets better.  The kick-off concert on Friday night\, October 10\, at 7 p.m. will start the festivities. Performing will be Carolina Soul and national recording artists Big Daddy Love. \n\nThe festival resumes Saturday\, October 11\, at 10:00 a.m. with all the vendors. This festival will draw thousands of people from across North Carolina and Southern Virginia for entertainment\, food\, fun and the EZ Street Cruisers Car Show. The antique cars\, street rods and classic car show are all sponsored by the EZ Street Cruisers Car Club and will feature more than 300 beautifully restored cars and trucks. Qualified judges will award trophies in more than 34 classes and $1\,500 in drawings.  This car show is always a highlight of the festival and the Car Show circuit and is one of the largest in the Southeast. \n\nThe Homegrown Festival offers a mix of art\, crafts\, classic cars\, jewelry\, fashion accessories\, pottery\, home and garden decor and much\, much more.  You will find your favorite fun festival foods that include: turkey legs\, hot dogs\, BBQ\, gyros\, blooming onions\, funnel cakes\, snow cones\, iced coffee\, smoothies\, fudge  and\, of course\, ice cream\, to name a few. Vendor space is still available.  Forms for registration are located at www.ci.reidsville.nc.us. Look for Homegrown Festival. \n\nThis year the children's area is being expanded and includes an all new event Touch A Truck.  What child does not like to climb a fire truck\, climb in the back seat of a police car or sit on a tractor? With Touch a Truck they will have that opportunity! Other children's activities include pony rides\, games and the Kingdom Kidz Zone. Make sure you bring your lawn chair and secure your place at Market Square for an exciting and full day of musical entertainment that includes children's performers Big Bang Boom\, local artist Country Kimberly\, gospel performers\, SC Broadcasters\, Jazz and R&B by Sweet Dreams and\, back by popular demand\, Eric and the Chill Tones. \n\nSet the date\, invite your friends and begin your weekend at the Kick-Off concert beginning at 7 p.m. Friday night! Return Saturday 10AM-10PM for music\, food and lots of Homegrown Fun. \n\n \n\nContact Judy Yarbrough at 336-349-1099 or jyarbrough@ci.reidsville.nc.us for more details
X-ALT-DESC;FMTTYPE=text/html:<strong><span style="font-size:28.0pt\;">Musical entertainment kicks off</span></strong><br />\n<strong><span style="font-size:28.0pt\;">Reidsville Festival October 10-11</span></strong><br />\n&nbsp\;<br />\n<strong><em><span style="font-size:13.0pt\;">The City of Reidsville\, Reidsville Downtown Corporation and Downtown Merchants invite you to attend the 23<sup>rd</sup> Annual Reidsville Downtown Homegrown Festival.</span></em></strong><br />\n&nbsp\;<br />\n<span style="font-size:11.5pt\;">Reidsville is nestled in the heart of Rockingham County\, known as North Carolina&#39\;s &quot\;North Star.&quot\; Reidsville&rsquo\;s motto is &ldquo\;Live Simply. Think Big.&rdquo\;&nbsp\; And this festival is no exception. </span><br />\n<span style="font-size:11.5pt\;">This is the 23<sup>rd</sup> year for the festival\, and each year it just gets better. &nbsp\;The kick-off concert on Friday night\, October 10\, at 7 p.m. will start the festivities. Performing will be <em>Carolina Soul</em> and national recording artists <em>Big Daddy Love</em>. </span><br />\n<span style="font-size:11.5pt\;">The festival resumes Saturday\, October 11\, at 10:00 a.m. with all the vendors. This festival will draw thousands of people from across North Carolina and Southern Virginia for entertainment\, food\, fun and the EZ Street Cruisers Car Show. The antique cars\, street rods and classic car show are all sponsored by the EZ Street Cruisers Car Club and will feature more than 300 beautifully</span> <span style="font-size:11.5pt\;">restored cars and trucks. Qualified judges will</span> <span style="font-size:11.5pt\;">award trophies in more than 34 classes and</span> <span style="font-size:11.5pt\;">$1\,500 in drawings. &nbsp\;This car show is always a</span> <span style="font-size:11.5pt\;">highlight of the festival and the Car Show circuit</span> <span style="font-size:11.5pt\;">and is one of the largest in the Southeast. </span><br />\n<span style="font-size:11.5pt\;">The Homegrown Festival offers a mix of art\,</span> <span style="font-size:11.5pt\;">crafts\, classic cars\, jewelry\, fashion accessories\, pottery\, home and garden decor and</span> <span style="font-size:11.5pt\;">much\, much more. </span>&nbsp\;<span style="font-size:11.5pt\;">You will find your favorite fun festival foods that include: turkey legs\, hot dogs\, BBQ\, gyros\, blooming onions\, funnel cakes\, snow cones\, iced coffee\, smoothies\, fudge &nbsp\;and\, of course\, ice cream\, to name a few. Vendor space is still available.&nbsp\; Forms for registration are located at <a href="http://www.ci.reidsville.nc.us/">www.ci.reidsville.nc.us</a>. Look for Homegrown Festival. </span><br />\n<span style="font-size:11.5pt\;">This year the children&rsquo\;s area is being expanded and includes an all new event <em>Touch A Truck</em>.&nbsp\; What child does not like to climb a fire truck\, climb in the back seat of a police car or sit on a tractor? With Touch a Truck they will have that opportunity! Other children&#39\;s activities include pony rides\, games and the Kingdom Kidz Zone. Make sure you bring your lawn chair and secure your place at Market Square for an exciting and full day of musical entertainment that includes children&rsquo\;s performers <em>Big Bang Boom</em>\, local artist <em>Country Kimberly</em>\, gospel performers\, <em>SC Broadcasters</em>\, Jazz and R&amp\;B by <em>Sweet Dreams</em> and\, back by popular demand\, <em>Eric and the Chill Tones</em>. </span><br />\n<span style="font-size:11.5pt\;">Set the date\, invite your friends and begin your weekend at the Kick-Off concert beginning at 7 p.m. Friday night! Return Saturday 10AM-10PM for music\, food and lots of Homegrown Fun. </span><br />\n&nbsp\;<br />\n<span style="font-family:times new roman\,serif\;"><span style="font-size:11.5pt\;">C<strong><em>ontact Judy Yarbrough at 336-349-1099 or <a href="mailto:jyarbrough@ci.reidsville.nc.us">jyarbrough@ci.reidsville.nc.us</a> for more details</em></strong></span></span>
LOCATION:
UID:e.111.2928
SEQUENCE:3
DTSTAMP:20260422T181412Z
URL:https://business.reidsvillechamber.org/events/details/reidsville-homegrown-festival-10-10-2014-2928
END:VEVENT

END:VCALENDAR
