BEGIN:VCALENDAR
VERSION:2.0
PRODID:-//ChamberMaster//Event Calendar 2.0//EN
METHOD:PUBLISH
X-PUBLISHED-TTL:P3D
REFRESH-INTERVAL:P3D
CALSCALE:GREGORIAN
BEGIN:VEVENT
DTSTART;VALUE=DATE:20120316
DTEND;VALUE=DATE:20120317
TRANSP:TRANSPARENT
X-MICROSOFT-CDO-ALLDAYEVENT:TRUE
SUMMARY:Reidsville Kiwanis 51st Annual Pancake Supper
DESCRIPTION:
X-ALT-DESC;FMTTYPE=text/html:
LOCATION:Reidsville Senior High School
UID:e.111.2156
SEQUENCE:3
DTSTAMP:20260421T131017Z
URL:https://business.reidsvillechamber.org/events/details/reidsville-kiwanis-51st-annual-pancake-supper-03-16-2012-2156
END:VEVENT

END:VCALENDAR
