BEGIN:VCALENDAR
VERSION:2.0
PRODID:-//ChamberMaster//Event Calendar 2.0//EN
METHOD:PUBLISH
X-PUBLISHED-TTL:P3D
REFRESH-INTERVAL:P3D
CALSCALE:GREGORIAN
BEGIN:VEVENT
DTSTART;VALUE=DATE:20120414
DTEND;VALUE=DATE:20120415
TRANSP:TRANSPARENT
X-MICROSOFT-CDO-ALLDAYEVENT:TRUE
SUMMARY:REIDSVILLE MINI STORAGE AUCTION
DESCRIPTION:
X-ALT-DESC;FMTTYPE=text/html:
LOCATION:Reidsville MIni Storage 1047/1048 Freeway Dr. Reidsville NC 336-342-5220
UID:e.111.2191
SEQUENCE:3
DTSTAMP:20260421T113523Z
URL:https://business.reidsvillechamber.org/events/details/reidsville-mini-storage-auction-04-14-2012-2191
END:VEVENT

END:VCALENDAR
