BEGIN:VCALENDAR
VERSION:2.0
PRODID:-//ChamberMaster//Event Calendar 2.0//EN
METHOD:PUBLISH
X-PUBLISHED-TTL:P3D
REFRESH-INTERVAL:P3D
CALSCALE:GREGORIAN
BEGIN:VEVENT
DTSTART:20140927T140000Z
DTEND:20140927T210000Z
X-MICROSOFT-CDO-ALLDAYEVENT:FALSE
SUMMARY:Reidsville Mini Storage Auction
DESCRIPTION:AUCTION\n\n9/27/14 10:00 AM\n\n1047/1048 Freeway Dr\n\nReidsville NC 27320\n\n336-342-5220\n\nSOLD BY UNIT ONLY\n\n \n\nPlease call 336-342-5220 if you have any questions.
X-ALT-DESC;FMTTYPE=text/html:<span style="color:black\;"><span style="font-family:calibri\,sans-serif\;">AUCTION</span></span><br />\n<span style="color:black\;"><span style="font-family:calibri\,sans-serif\;">9/27/14 10:00 AM</span></span><br />\n<span style="color:black\;"><span style="font-family:calibri\,sans-serif\;">1047/1048 Freeway Dr</span></span><br />\n<span style="color:black\;"><span style="font-family:calibri\,sans-serif\;">Reidsville NC 27320</span></span><br />\n<span style="color:black\;"><span style="font-family:calibri\,sans-serif\;">336-342-5220</span></span><br />\n<span style="color:black\;"><span style="font-family:calibri\,sans-serif\;">SOLD BY UNIT ONLY</span></span><br />\n&nbsp\;<br />\n<span style="color:black\;"><span style="font-family:calibri\,sans-serif\;">Please call 336-342-5220 if you have any questions.</span></span>
LOCATION:
UID:e.111.2919
SEQUENCE:3
DTSTAMP:20260422T201915Z
URL:https://business.reidsvillechamber.org/events/details/reidsville-mini-storage-auction-09-27-2014-2919
END:VEVENT

END:VCALENDAR
