BEGIN:VCALENDAR
VERSION:2.0
PRODID:-//ChamberMaster//Event Calendar 2.0//EN
METHOD:PUBLISH
X-PUBLISHED-TTL:P3D
REFRESH-INTERVAL:P3D
CALSCALE:GREGORIAN
BEGIN:VEVENT
DTSTART:20100914T153000Z
DTEND:20100914T163000Z
X-MICROSOFT-CDO-ALLDAYEVENT:FALSE
SUMMARY:Reidsville Veterinary Hospital Groundbreaking!
DESCRIPTION:Reidsville Veterinary Hospital\n\n	\n\n	cordially invites everyone to a \n\n	\n\n	Groundbreaking Ceremony\n\n	\n\n	for a brand new \n\n	state of the art veterinary hospital\n\n	serving both large and small animals\n\n	\n\n	The ceremony begins at 11:30 am on Tuesday\, Sept. 14th at their future location of Barnes Street and Elliot Road
X-ALT-DESC;FMTTYPE=text/html:<p style="text-align: center">\n	<span style="font-family: comic sans ms"><span style="font-size: 16px"><span style="color: #b22222"><span style="font-size: 22px">Reidsville Veterinary Hospital</span></span><br />\n	<br />\n	<span>cordially invites everyone to a </span><br />\n	<br />\n	<span style="color: #b22222"><em>Groundbreaking Ceremony</em></span><br />\n	<br />\n	<span>for a brand new </span><br />\n	<span><em>state of the art</em> veterinary hospital<br />\n	serving both large and small animals<br />\n	<br />\n	The ceremony begins at 11:30 am on Tuesday\, Sept. 14th at their future location of Barnes Street and Elliot Road</span></span></span></p>\n
LOCATION:
UID:e.111.1502
SEQUENCE:3
DTSTAMP:20260424T053439Z
URL:https://business.reidsvillechamber.org/events/details/reidsville-veterinary-hospital-groundbreaking-09-14-2010-1502
END:VEVENT

END:VCALENDAR
