BEGIN:VCALENDAR
VERSION:2.0
PRODID:-//ChamberMaster//Event Calendar 2.0//EN
METHOD:PUBLISH
X-PUBLISHED-TTL:P3D
REFRESH-INTERVAL:P3D
CALSCALE:GREGORIAN
BEGIN:VEVENT
DTSTART:20100401T140000Z
DTEND:20100401T160000Z
X-MICROSOFT-CDO-ALLDAYEVENT:FALSE
SUMMARY:RELAY FOR LIFE Bake Sale
DESCRIPTION:Support Annie Penn's 2010 Relay for Life Team.  Shop for your Easter desserts at the team's Bake Sale on Thursday\, April 1.  The sale will be held in the Annie Penn Cafeteria.  It will begin at 10:00 am\, and will continue until all baked goods are sold.  For those on diets\, feel free to make a donation!
X-ALT-DESC;FMTTYPE=text/html:Support Annie Penn's 2010 Relay for Life Team.  Shop for your Easter desserts at the team's Bake Sale on Thursday\, April 1.  The sale will be held in the Annie Penn Cafeteria.  It will begin at 10:00 am\, and will continue until all baked goods are sold.  For those on diets\, feel free to make a donation!
LOCATION:Annie Penn Cafeteria
UID:e.111.1354
SEQUENCE:3
DTSTAMP:20260424T133840Z
URL:https://business.reidsvillechamber.org/events/details/relay-for-life-bake-sale-04-01-2010-1354
END:VEVENT

END:VCALENDAR
