BEGIN:VCALENDAR
VERSION:2.0
PRODID:-//ChamberMaster//Event Calendar 2.0//EN
METHOD:PUBLISH
X-PUBLISHED-TTL:P3D
REFRESH-INTERVAL:P3D
CALSCALE:GREGORIAN
BEGIN:VEVENT
DTSTART:20100107T230000Z
DTEND:20100108T003000Z
X-MICROSOFT-CDO-ALLDAYEVENT:FALSE
SUMMARY:Relay For Life of Rockingham County
DESCRIPTION:Relay For Life of Rockingham County Kicks Off!\n\nPlease join us as we launch our 2010 fundraising event.
X-ALT-DESC;FMTTYPE=text/html:Relay For Life of Rockingham County Kicks Off!\n<br>Please join us as we launch our 2010 fundraising event.
LOCATION:Morehead High School Cafeteria\, Eden
UID:e.111.1285
SEQUENCE:3
DTSTAMP:20260424T185645Z
URL:https://business.reidsvillechamber.org/events/details/relay-for-life-of-rockingham-county-01-07-2010-1285
END:VEVENT

END:VCALENDAR
