BEGIN:VCALENDAR
VERSION:2.0
PRODID:-//ChamberMaster//Event Calendar 2.0//EN
METHOD:PUBLISH
X-PUBLISHED-TTL:P3D
REFRESH-INTERVAL:P3D
CALSCALE:GREGORIAN
BEGIN:VEVENT
DTSTART;VALUE=DATE:20111208
DTEND;VALUE=DATE:20111209
TRANSP:TRANSPARENT
X-MICROSOFT-CDO-ALLDAYEVENT:TRUE
SUMMARY:Release of Rockingham County's addition of "Our Town Magazine"
DESCRIPTION:FOR IMMEDIATE RELEASE\n\nNovember 28\, 2011\n\n \n\nContact:\n\nRobin Yount\n\nVice President of Tourism                                         \n\nRockingham County Partnership\n\n336.342.8138\n\nryount@ncnorthstar.com\n\nwww.ncnorthstar.com\n\n \n\n\n	Rockingham County Partnership and TDA Announce Launch of Magazine\n\n	 Click Here for Cover\n\n	Wentworth\, NC The Rockingham County Partnership for Economic and Tourism Development (Partnership) and the Rockingham County Tourism Development Authority (TDA) are pleased to launch the inaugural issue of Our Town\, Rockingham County.  Our Town\, Rockingham County is a glossy magazine that features more than 100 pages of articles\, photos\, information and ads that highlight the great people\, places and things happening in Rockingham County. \n"Our Town\, Rockingham County is designed to give people a snapshot of our entire county\," said Robin Yount\, vice president of Tourism for the Rockingham County Partnership.  "It covers everything from each individual municipality to education\, our economy\, recreation\, the arts\, and much more.  It's another great marketing tool for us to use to attract visitors\, businesses and industries\, and new residents."\n\nThe magazine is free and will be distributed throughout the entire county in local businesses\, hotels\, Chambers\, shops\, restaurants and governmental offices.  It will also be mailed in visitor packets to people requesting information about Rockingham County.   Copies will also be available at the Piedmont-Triad Visitor's Center on U.S. 29 in Pelham.  \n\n"We spent many months working on this magazine and are very proud of the final product.  We could not have done it without the help and support of a lot of people\, organizations and businesses throughout the whole community\," said Johnny Farmer\, chair of the Rockingham County TDA Board.\n\nOur Town\, Rockingham Countyis a joint project of the Rockingham County Partnership and the Tourism Development Authority.
X-ALT-DESC;FMTTYPE=text/html:&nbsp\;<strong><span style="font-size: 11pt"><span style="color: black"><span style="font-family: arial\,sans-serif">FOR IMMEDIATE RELEASE</span></span></span></strong><br />\n<strong><span style="font-size: 11pt"><span style="color: black"><span style="font-family: arial\,sans-serif">November 28\, 2011</span></span></span></strong><br />\n&nbsp\;<br />\n<strong><span style="font-size: 11pt"><span style="color: black"><span style="font-family: arial\,sans-serif">Contact:</span></span></span></strong><br />\n<strong><span style="font-weight: normal"><span style="font-size: 11pt"><span style="color: black"><span style="font-family: arial\,sans-serif">Robin Yount</span></span></span></span></strong><br />\n<strong><span style="font-weight: normal"><span style="font-size: 11pt"><span style="color: black"><span style="font-family: arial\,sans-serif">Vice President of Tourism&nbsp\;&nbsp\;&nbsp\;&nbsp\;&nbsp\;&nbsp\;&nbsp\;&nbsp\;&nbsp\;&nbsp\;&nbsp\;&nbsp\;&nbsp\;&nbsp\;&nbsp\;&nbsp\;&nbsp\;&nbsp\;&nbsp\;&nbsp\;&nbsp\;&nbsp\;&nbsp\;&nbsp\;&nbsp\;&nbsp\;&nbsp\;&nbsp\;&nbsp\;&nbsp\;&nbsp\;&nbsp\;&nbsp\;&nbsp\;&nbsp\;&nbsp\;&nbsp\;&nbsp\;&nbsp\;&nbsp\; </span></span></span></span></strong><br />\n<strong><span style="font-weight: normal"><span style="font-size: 11pt"><span style="color: black"><span style="font-family: arial\,sans-serif">Rockingham County Partnership</span></span></span></span></strong><br />\n<strong><span style="font-weight: normal"><span style="font-size: 11pt"><span style="color: black"><span style="font-family: arial\,sans-serif">336.342.8138</span></span></span></span></strong><br />\n<strong><span style="font-size: 11pt"><span style="color: black"><span style="font-family: arial\,sans-serif"><a href="mailto:ryount@ncnorthstar.com"><span style="font-weight: normal">ryount@ncnorthstar.com</span></a></span></span></span></strong><br />\n<strong><span style="font-size: 11pt"><span style="color: black"><span style="font-family: arial\,sans-serif"><a href="http://www.ncnorthstar.com/"><span style="font-weight: normal">www.ncnorthstar.com</span></a></span></span></span></strong><br />\n&nbsp\;<br />\n<h1 style="margin-right: 0in">\n	<span style="font-size: 11pt"><span style="font-family: arial\,sans-serif">Rockingham County Partnership and TDA Announce Launch of Magazine</span></span></h1>\n<h1 align="left" style="text-align: left">\n	&nbsp\;<a href="http://cloud.chambermaster.com/userfiles/UserFiles/chambers/111/File/Ourtown2.pdf">Click Here for Cover</a></h1>\n<h1 align="left" style="text-align: left">\n	<span style="font-size: 11pt"><span style="font-family: arial\,sans-serif">Wentworth\, NC&mdash\;</span></span><span style="font-weight: normal"><span style="font-size: 11pt"><span style="font-family: arial\,sans-serif">The Rockingham County Partnership for Economic and Tourism Development (Partnership) and the Rockingham County Tourism Development Authority (TDA) are pleased to launch the inaugural issue of <em>Our Town\, Rockingham County</em>.&nbsp\; <em>Our Town\, Rockingham County</em> is a glossy magazine that features more than 100 pages of articles\, photos\, information and ads that highlight the great people\, places and things happening in Rockingham County. </span></span></span></h1>\n<span style="font-size: 11pt"><span style="font-family: arial\,sans-serif">&ldquo\;<em>Our Town\, Rockingham County</em> is designed to give people a snapshot of our entire county\,&rdquo\; said Robin Yount\, vice president of Tourism for the Rockingham County Partnership.&nbsp\; &ldquo\;It covers everything from each individual municipality to education\, our economy\, recreation\, the arts\, and much more.&nbsp\; It&rsquo\;s another great marketing tool for us to use to attract visitors\, businesses and industries\, and new residents.&rdquo\;</span></span><br />\n<span style="font-size: 11pt"><span style="font-family: arial\,sans-serif">The magazine is free and will be distributed throughout the entire county in local businesses\, hotels\, Chambers\, shops\, restaurants and governmental offices.&nbsp\; It will also be mailed in visitor packets to people requesting information about Rockingham County.&nbsp\;&nbsp\; Copies will also be available at the Piedmont-Triad Visitor&rsquo\;s Center on U.S. 29 in Pelham.&nbsp\; </span></span><br />\n<span style="font-size: 11pt"><span style="font-family: arial\,sans-serif">&ldquo\;We spent many months working on this magazine and are very proud of the final product.&nbsp\; We could not have done it without the help and support of a lot of people\, organizations and businesses throughout the whole community\,&rdquo\; said Johnny Farmer\, chair of the Rockingham County TDA Board.</span></span><br />\n<em><span style="font-size: 11pt"><span style="font-family: arial\,sans-serif">Our Town\, Rockingham County</span></span></em><span style="font-size: 11pt"><span style="font-family: arial\,sans-serif">is a joint project of the Rockingham County Partnership and the Tourism Development Authority.&nbsp\;</span></span>
LOCATION:
UID:e.111.2111
SEQUENCE:3
DTSTAMP:20260421T175648Z
URL:https://business.reidsvillechamber.org/events/details/release-of-rockingham-county-s-addition-of-our-town-magazine-12-08-2011-2111
END:VEVENT

END:VCALENDAR
