BEGIN:VCALENDAR
VERSION:2.0
PRODID:-//ChamberMaster//Event Calendar 2.0//EN
METHOD:PUBLISH
X-PUBLISHED-TTL:P3D
REFRESH-INTERVAL:P3D
CALSCALE:GREGORIAN
BEGIN:VEVENT
DTSTART:20100414T220000Z
DTEND:20100415T000000Z
X-MICROSOFT-CDO-ALLDAYEVENT:FALSE
SUMMARY:Retail Merchandising and Window Display Workshop
DESCRIPTION:Retail Merchandising and Window Display WorkshopWednesday\, April 14\, 20106:00 pmStarts 6:00pm at Granny's Antiques & Gifts in Draper Village . . . continues at 7:00pm at The Front Porch in Olde Leaksville Facilitator: Robert Sharpe\,former Visual Design Director for J.C. Penney  Take advantage of this great opportunity to improve your business!                                    Sponsored by Rockingham Community College       What your fellow merchants have to say about Bob Sharpe:"He was very smart and knew exactly what I needed. He was intune with the look of my store\, colors and how things werepositioned. He had the right touch for whatever your needs may be." Ty Pace\, Pace-Stone\, Inc.  "I was so impressed with his knowledge and his willingness to help us. He focused on what we needed and was very helpful. We hope all merchants  will take advantage of his knowledge."  Mel and Gloria Hall\, The Front Porch
X-ALT-DESC;FMTTYPE=text/html:<div style="text-align: center"><b><font face="CalifornianFB\,Bold" color="#008080" size="6"><font face="CalifornianFB\,Bold" color="#008080" size="6"><font face="CalifornianFB\,Bold" color="#008080" size="6"><p style="text-align: center"><span style="font-size: medium"><span id="1271097430731S" style="display: none">&nbsp\;</span>Retail Merchandising and</span> <span style="font-size: medium">Window Display Workshop</span></p><p style="text-align: center"><span style="font-size: medium">Wednesday\, April 14\, 2010</span></p><p style="text-align: center"><span style="font-size: medium">6:00 pm</span></p></font></font></font><font face="Times-Roman" size="5"><font face="Times-Roman" size="5"><span style="font-size: medium"><span style="font-family: Comic Sans MS">Starts 6:00pm at Granny&rsquo\;s Antiques &amp\; Gifts in Draper Village</span></span> <p align="left"><span style="font-size: medium"><span style="font-family: Comic Sans MS">. . . continues at 7:00pm at The Front Porch in Olde Leaksville</span></span></p><p style="text-align: center"><span style="font-size: medium"><span style="font-family: Comic Sans MS"><span id="1271097502644S" style="display: none">&nbsp\;</span>Facilitator: Robert Sharpe\,</span></span></p><p style="text-align: center"><span style="font-size: medium"><span style="font-family: Comic Sans MS">former Visual Design Director for J.C. Penney</span></span><span id="1271097479920E" style="display: none">&nbsp\;</span></p><p style="text-align: center">&nbsp\;</p></font></font><i><font face="Times-Roman" size="5">Take advantage of this great opportunity to improve your business!&nbsp\;&nbsp\;&nbsp\;&nbsp\;<span id="1271102268882E" style="display: none">&nbsp\;</span><span id="1271102266935E" style="display: none">&nbsp\;</span>&nbsp\;&nbsp\;&nbsp\;&nbsp\;&nbsp\;<span id="1271102406694E" style="display: none">&nbsp\;</span><span id="1271102404181E" style="display: none">&nbsp\;</span>&nbsp\;&nbsp\;&nbsp\;&nbsp\;&nbsp\;&nbsp\;&nbsp\;&nbsp\;&nbsp\;&nbsp\;&nbsp\;&nbsp\;&nbsp\;&nbsp\;&nbsp\;&nbsp\;&nbsp\;&nbsp\;&nbsp\;&nbsp\;&nbsp\;&nbsp\; Sponsored by Rockingham Community College<span id="1271097516033E" style="display: none">&nbsp\;</span><span id="1271097513329E" style="display: none">&nbsp\;</span></font><span id="1271102266704S" style="display: none">&nbsp\;</span><span id="1271102269037S" style="display: none">&nbsp\;</span><span id="1271102343761S" style="display: none">&nbsp\;</span><span id="1271102403901S" style="display: none">&nbsp\;</span><span id="1271102406586S" style="display: none">&nbsp\;</span></i></b></div><div style="text-align: center"><font face="Times-Roman" size="5"><font face="Times-Roman" size="5"><p align="left"><span style="font-size: small"><span style="font-family: Tahoma">What your fellow merchants have to say about Bob Sharpe:</span></span></p></font></font><i><font face="Times-Italic" size="5"><font face="Times-Italic" size="5"><p align="left"><span style="font-size: small"><span style="font-family: Tahoma">&ldquo\;He was very smart and knew exactly what I needed. He was in</span></span></p><p align="left"><span style="font-size: small"><span style="font-family: Tahoma">tune with the look of my store\, colors and how things were</span></span></p><p align="left"><span style="font-size: small"><span style="font-family: Tahoma">positioned. He had the right touch for whatever your needs may be.&quot\;</span></span></p><i><font face="Times-Italic" size="5"><font face="Times-Italic" size="5"><p align="left">&nbsp\;</p></font></font><span style="font-size: small"><span style="font-family: Tahoma"><font size="+0">Ty Pace\, Pace-Stone\, Inc.</font></span></span>&nbsp\;</i></font></font></i></div><div style="text-align: center">&nbsp\;</div><div><i><font face="Times-Italic" size="5"><font face="Times-Italic" size="5"><p align="left"><span style="font-size: small">&ldquo\;I was so impressed with his knowledge and his willingness to</span> <span style="font-size: small">help us. He focused on what we needed and was very helpful. We</span> <span style="font-size: small">hope all merchants&nbsp\; will take advantage of his knowledge.&rdquo\;&nbsp\; <font face="Times-Roman" size="5"><font face="Times-Roman" size="5"><span style="font-size: small"><span style="font-family: Tahoma">Mel and Gloria Hall\, The Front Porch</span></span></font></font></span></p></font></font></i></div>
LOCATION:
UID:e.111.1365
SEQUENCE:3
DTSTAMP:20260424T132147Z
URL:https://business.reidsvillechamber.org/events/details/retail-merchandising-and-window-display-workshop-04-14-2010-1365
END:VEVENT

END:VCALENDAR
