BEGIN:VCALENDAR
VERSION:2.0
PRODID:-//ChamberMaster//Event Calendar 2.0//EN
METHOD:PUBLISH
X-PUBLISHED-TTL:P3D
REFRESH-INTERVAL:P3D
CALSCALE:GREGORIAN
BEGIN:VEVENT
DTSTART:20110614T130000Z
DTEND:20110614T140000Z
X-MICROSOFT-CDO-ALLDAYEVENT:FALSE
SUMMARY:Ribbon Cutting and Customer Appreciation Day at Creative Hair Designs
DESCRIPTION:Join us for a ribbon cutting in our newly remodleled salon.
X-ALT-DESC;FMTTYPE=text/html:Join us for a ribbon cutting in our newly remodleled salon. 
LOCATION:237 South Scales Street
UID:e.111.1927
SEQUENCE:3
DTSTAMP:20260423T165146Z
URL:https://business.reidsvillechamber.org/events/details/ribbon-cutting-and-customer-appreciation-day-at-creative-hair-designs-06-14-2011-1927
END:VEVENT

END:VCALENDAR
