BEGIN:VCALENDAR
VERSION:2.0
PRODID:-//ChamberMaster//Event Calendar 2.0//EN
METHOD:PUBLISH
X-PUBLISHED-TTL:P3D
REFRESH-INTERVAL:P3D
CALSCALE:GREGORIAN
BEGIN:VEVENT
DTSTART:20100629T120000Z
DTEND:20100629T130000Z
X-MICROSOFT-CDO-ALLDAYEVENT:FALSE
SUMMARY:Ribbon Cutting and Grand Opening Nana Kay's Country Kitchen
DESCRIPTION:Please join us on Tuesday\, June 29th for a Ribbon Cutting Ceremony and Grand Opening of Nana Kay's Country Kitchen223 Piedmont Street in the former Sanitary Cafe location8:00 am We look forward to seeing all the early birds for Great Food\, Fun\, Friends & Festivities!
X-ALT-DESC;FMTTYPE=text/html:<div style="text-align: center"><span style="font-size: small">Please join us </span></div><div style="text-align: center"><span style="font-size: small">on Tuesday\, June 29th</span></div><div style="text-align: center">&nbsp\;</div><div style="text-align: center"><span style="font-size: small">for a Ribbon Cutting Ceremony </span></div><div style="text-align: center"><span style="font-size: small">and Grand Opening of</span></div><div style="text-align: center">&nbsp\;</div><div style="text-align: center"><span style="font-size: medium">Nana Kay&rsquo\;s Country Kitchen</span></div><div style="text-align: center"><span style="font-size: small">223 Piedmont Street </span></div><div style="text-align: center">in the former Sanitary Cafe location</div><div style="text-align: center"><span style="font-size: small">8:00 am</span></div><div style="text-align: center">&nbsp\;</div><div style="text-align: center"><span style="font-size: small">We look forward to&nbsp\;seeing all the early birds for&nbsp\;</span></div><div style="text-align: center"><span style="font-size: small">Great Food\, Fun\, Friends &amp\; Festivities!</span></div><div style="text-align: center">&nbsp\;</div>
LOCATION:
UID:e.111.1479
SEQUENCE:3
DTSTAMP:20260424T215201Z
URL:https://business.reidsvillechamber.org/events/details/ribbon-cutting-and-grand-opening-nana-kay-s-country-kitchen-06-29-2010-1479
END:VEVENT

END:VCALENDAR
