BEGIN:VCALENDAR
VERSION:2.0
PRODID:-//ChamberMaster//Event Calendar 2.0//EN
METHOD:PUBLISH
X-PUBLISHED-TTL:P3D
REFRESH-INTERVAL:P3D
CALSCALE:GREGORIAN
BEGIN:VEVENT
DTSTART;VALUE=DATE:20110929
DTEND;VALUE=DATE:20110930
TRANSP:TRANSPARENT
X-MICROSOFT-CDO-ALLDAYEVENT:TRUE
SUMMARY:Ribbon Cutting at A. Nicole's
DESCRIPTION:Please Join A. Nicole's (formerly Samples and More)  for a Ribbon Cutting\, celebrating their new name and their newly remodeled store.
X-ALT-DESC;FMTTYPE=text/html:Please Join A. Nicole&#39\;s (formerly Samples and More)&nbsp\; for a Ribbon Cutting\, celebrating their new name and their newly remodeled store.&nbsp\;<br />\n
LOCATION:216 S. Scales Street Reidsville\, NC 27320
UID:e.111.1997
SEQUENCE:3
DTSTAMP:20260423T103506Z
URL:https://business.reidsvillechamber.org/events/details/ribbon-cutting-at-a-nicole-s-09-29-2011-1997
END:VEVENT

END:VCALENDAR
