BEGIN:VCALENDAR
VERSION:2.0
PRODID:-//ChamberMaster//Event Calendar 2.0//EN
METHOD:PUBLISH
X-PUBLISHED-TTL:P3D
REFRESH-INTERVAL:P3D
CALSCALE:GREGORIAN
BEGIN:VEVENT
DTSTART:20111215T163000Z
DTEND:20111215T170000Z
X-MICROSOFT-CDO-ALLDAYEVENT:FALSE
SUMMARY:Ribbon Cutting at Backstreet Seafood Market
DESCRIPTION:Please join us in welcoming one of our newest businesses to Reidsville and to the Reidsville Chamber of Commerce. Drop by to see the wonderful selections of fresh seafood which are now available for you.
X-ALT-DESC;FMTTYPE=text/html:Please join us in welcoming one of our newest businesses to Reidsville and to the Reidsville Chamber of Commerce. Drop by to see the wonderful selections of fresh seafood which are now&nbsp\;available for you.
LOCATION:210 S.W. Market Street\, Reidsville
UID:e.111.2103
SEQUENCE:3
DTSTAMP:20260421T193211Z
URL:https://business.reidsvillechamber.org/events/details/ribbon-cutting-at-backstreet-seafood-market-12-15-2011-2103
END:VEVENT

END:VCALENDAR
