BEGIN:VCALENDAR
VERSION:2.0
PRODID:-//ChamberMaster//Event Calendar 2.0//EN
METHOD:PUBLISH
X-PUBLISHED-TTL:P3D
REFRESH-INTERVAL:P3D
CALSCALE:GREGORIAN
BEGIN:VEVENT
DTSTART:20120412T160000Z
DTEND:20120412T160000Z
X-MICROSOFT-CDO-ALLDAYEVENT:FALSE
SUMMARY:Ribbon Cutting at Boss Motor Co.
DESCRIPTION:Please join us for the ribbon cutting celebrating the opening of the Reidsville location of Boss Motor Co.\n\nA light lunch will be served.
X-ALT-DESC;FMTTYPE=text/html:Please join us for the ribbon cutting celebrating the opening of the Reidsville location of Boss Motor Co.<br />\nA light lunch will be served.
LOCATION:1087-A Freeway Drive
UID:e.111.2198
SEQUENCE:3
DTSTAMP:20260421T113738Z
URL:https://business.reidsvillechamber.org/events/details/ribbon-cutting-at-boss-motor-co-04-12-2012-2198
END:VEVENT

END:VCALENDAR
