BEGIN:VCALENDAR
VERSION:2.0
PRODID:-//ChamberMaster//Event Calendar 2.0//EN
METHOD:PUBLISH
X-PUBLISHED-TTL:P3D
REFRESH-INTERVAL:P3D
CALSCALE:GREGORIAN
BEGIN:VEVENT
DTSTART:20111221T163000Z
DTEND:20111221T170000Z
X-MICROSOFT-CDO-ALLDAYEVENT:FALSE
SUMMARY:Ribbon Cutting at Coleman's Grill
DESCRIPTION:Drop by to welcome one of Reidsville's newest businesses to downtown! John and Dee can't wait for you to sample a few of their favorite foods.
X-ALT-DESC;FMTTYPE=text/html:Drop by to welcome one of Reidsville&#39\;s newest businesses to downtown! John and Dee can&#39\;t wait for you to sample a few of their favorite foods.
LOCATION:234 S. Scales Street Reidsville\, NC 27320
UID:e.111.2114
SEQUENCE:3
DTSTAMP:20260421T192759Z
URL:https://business.reidsvillechamber.org/events/details/ribbon-cutting-at-coleman-s-grill-12-21-2011-2114
END:VEVENT

END:VCALENDAR
