BEGIN:VCALENDAR
VERSION:2.0
PRODID:-//ChamberMaster//Event Calendar 2.0//EN
METHOD:PUBLISH
X-PUBLISHED-TTL:P3D
REFRESH-INTERVAL:P3D
CALSCALE:GREGORIAN
BEGIN:VEVENT
DTSTART:20120112T163000Z
DTEND:20120113T043000Z
X-MICROSOFT-CDO-ALLDAYEVENT:FALSE
SUMMARY:Ribbon Cutting at Mivano's Pizza
DESCRIPTION:Please join us\n	\n		on Thursday January 12th\n	\n		for a Ribbon Cutting Ceremony\n	\n		and Grand Opening of\n	\n		 \n	\n		Mivano's Pizza\n	\n		1130 A Freeway Drive\n	\n		11:30 am\n\n		\n\n		We welcome them as one of our newest Chamber members! Come out and join us in celebrating their opening!
X-ALT-DESC;FMTTYPE=text/html:<div>\n	<div style="text-align: center\; ">\n		<span style="font-size: small\; ">Please join us</span></div>\n	<div style="text-align: center\; ">\n		<span style="font-size: small\; ">on Thursday January 12th</span></div>\n	<div style="text-align: center\; ">\n		<span style="font-size: small\; ">for a Ribbon Cutting Ceremony</span></div>\n	<div style="text-align: center\; ">\n		<span style="font-size: small\; ">and Grand Opening of</span></div>\n	<div style="text-align: center\; ">\n		&nbsp\;</div>\n	<div style="text-align: center\; ">\n		<span style="font-size: medium\; ">Mivano&#39\;s Pizza</span></div>\n	<div style="text-align: center\; ">\n		<font size="2">1130 A Freeway Drive</font></div>\n	<div style="text-align: center\; ">\n		<span style="font-size: small\; ">11:30 am<br />\n		<br />\n		We welcome them as one of our newest Chamber members! Come out and join us in celebrating their opening!</span></div>\n</div>\n
LOCATION:1130 A Freeway Drive
UID:e.111.2120
SEQUENCE:3
DTSTAMP:20260421T161847Z
URL:https://business.reidsvillechamber.org/events/details/ribbon-cutting-at-mivano-s-pizza-01-12-2012-2120
END:VEVENT

END:VCALENDAR
